BEGIN:VCALENDAR
PRODID:NingEventWidget-v1
VERSION:2.0
METHOD:PUBLISH
BEGIN:VTIMEZONE
TZID:Pacific/Midway
X-LIC-LOCATION:Pacific/Midway
BEGIN:STANDARD
TZOFFSETFROM:-1100
TZOFFSETTO:-1100
TZNAME:SST
DTSTART:19700101T000000
END:STANDARD
END:VTIMEZONE
BEGIN:VEVENT
UID:5385115:Event:104040
DTSTAMP:20260419T071334Z
SUMMARY:FLASH MOB „Open Access: Redefining the Impact”
DESCRIPTION:FLASH MOB „Open Access: Redefining the Impact”. Organi
 zers: Scientific Library, „Ion Creangă” State Pedagogical Univers
 ity. \n\nFor more information visit http://legacy.openaccessweek.org/
 events/flash-mob-open-access-redefining-the-impact
DTSTART;TZID=Pacific/Midway:20131024T104500
DTEND;TZID=Pacific/Midway:20131024T110000
CATEGORIES:flash, mob
LOCATION:Location: Chişinău, Ion Creangă, 1 St.
WEBSITE:
URL:
CONTACT:
ORGANIZER;CN="Natalia Cheradi":http://legacy.openaccessweek.org/profil
 e/CheradiNatalia
ATTACH;FMTTYPE="image/jpeg":
ATTENDEE;ROLE=REQ-PARTICIPANT;PARTSTAT=ACCEPTED;RSVP=TRUE;CN="Natalia 
 Cheradi":http://legacy.openaccessweek.org/profile/CheradiNatalia
END:VEVENT
END:VCALENDAR
