BEGIN:VCALENDAR
PRODID:NingEventWidget-v1
VERSION:2.0
METHOD:PUBLISH
BEGIN:VTIMEZONE
TZID:Pacific/Midway
X-LIC-LOCATION:Pacific/Midway
BEGIN:STANDARD
TZOFFSETFROM:-1100
TZOFFSETTO:-1100
TZNAME:SST
DTSTART:19700101T000000
END:STANDARD
END:VTIMEZONE
BEGIN:VEVENT
UID:5385115:Event:107364
DTSTAMP:20260422T201854Z
SUMMARY:Fifth Issue Of the IJELLH an Online Journal
DESCRIPTION:This event is about the fifth issue of the IJELLH (Intern
 ational Journal Of English Language Literature & Humanities) Where all
  the research scholars an individual authors can submit their research
  papers and articles for publishing in this issue. \n\nFor more infor
 mation visit http://legacy.openaccessweek.org/events/fifth-issue-of-th
 e-ijellh-an-online-journal
DTSTART;TZID=Pacific/Midway:20140131T000000
DTEND;TZID=Pacific/Midway:20140228T235900
CATEGORIES:online, journal, open, access, publication
LOCATION:Online
WEBSITE:
URL:
CONTACT:
ORGANIZER;CN="Rajeev Tiwari":http://legacy.openaccessweek.org/profile/
 RajeevTiwari
ATTACH;FMTTYPE="image/jpeg":http://storage.ning.com/topology/rest/1.0/
 file/get/3057532346?profile=original
ATTENDEE;ROLE=REQ-PARTICIPANT;PARTSTAT=ACCEPTED;RSVP=TRUE;CN="Rajeev T
 iwari":http://legacy.openaccessweek.org/profile/RajeevTiwari
END:VEVENT
END:VCALENDAR
