BEGIN:VCALENDAR
PRODID:NingEventWidget-v1
VERSION:2.0
METHOD:PUBLISH
BEGIN:VTIMEZONE
TZID:Pacific/Midway
X-LIC-LOCATION:Pacific/Midway
BEGIN:STANDARD
TZOFFSETFROM:-1100
TZOFFSETTO:-1100
TZNAME:SST
DTSTART:19700101T000000
END:STANDARD
END:VTIMEZONE
BEGIN:VEVENT
UID:5385115:Event:100580
DTSTAMP:20260423T100211Z
SUMMARY:Lunchtime Talk: ESF Authors and Scholars Discuss the Importanc
 e of OA in Academia
DESCRIPTION:Come hear two ESF faculty members talk about their efforts
  to contribute work to open access places and why they think open acce
 ss is valuable.\n\nFor more information visit http://legacy.openaccess
 week.org/events/faculty-open-access-presentation
DTSTART;TZID=Pacific/Midway:20131022T123000
DTEND;TZID=Pacific/Midway:20131022T133000
CATEGORIES:presentation
LOCATION:110 Moon Library
WEBSITE:http://libguides.esf.edu/openaccessweek
URL:http://libguides.esf.edu/openaccessweek
CONTACT:
ORGANIZER:Jessica Clemons
ATTACH;FMTTYPE="image/jpeg":
ATTENDEE;ROLE=REQ-PARTICIPANT;PARTSTAT=ACCEPTED;RSVP=TRUE;CN="Ruth Owe
 ns":http://legacy.openaccessweek.org/profile/RuthOwens
END:VEVENT
END:VCALENDAR
