BEGIN:VCALENDAR
PRODID:NingEventWidget-v1
VERSION:2.0
METHOD:PUBLISH
BEGIN:VTIMEZONE
TZID:Pacific/Midway
X-LIC-LOCATION:Pacific/Midway
BEGIN:STANDARD
TZOFFSETFROM:-1100
TZOFFSETTO:-1100
TZNAME:SST
DTSTART:19700101T000000
END:STANDARD
END:VTIMEZONE
BEGIN:VEVENT
UID:5385115:Event:96499
DTSTAMP:20260423T060659Z
SUMMARY:Faculty and Graduate Student Panels
DESCRIPTION:Panelists will discuss their experiences with and perspect
 ives on open access, and take questions from the audience. Join us for
  a lively discussion!\n\nFor more information visit http://legacy.open
 accessweek.org/events/faculty-and-graduate-student-panels
DTSTART;TZID=Pacific/Midway:20131023T173000
DTEND;TZID=Pacific/Midway:20131023T190000
CATEGORIES:panel, discussion
LOCATION:Virginia Tech, Torgersen Museum (1100)
WEBSITE:http://www.lib.vt.edu/openaccess
URL:http://www.lib.vt.edu/openaccess
CONTACT:
ORGANIZER;CN="Philip Young":http://legacy.openaccessweek.org/profile/P
 hilipYoung
ATTACH;FMTTYPE="image/jpeg":
ATTENDEE;ROLE=REQ-PARTICIPANT;PARTSTAT=ACCEPTED;RSVP=TRUE;CN="Philip Y
 oung":http://legacy.openaccessweek.org/profile/PhilipYoung
END:VEVENT
END:VCALENDAR
