BEGIN:VCALENDAR
PRODID:NingEventWidget-v1
VERSION:2.0
METHOD:PUBLISH
BEGIN:VTIMEZONE
TZID:Pacific/Midway
X-LIC-LOCATION:Pacific/Midway
BEGIN:STANDARD
TZOFFSETFROM:-1100
TZOFFSETTO:-1100
TZNAME:SST
DTSTART:19700101T000000
END:STANDARD
END:VTIMEZONE
BEGIN:VEVENT
UID:5385115:Event:174996
DTSTAMP:20260421T043518Z
SUMMARY:Events organized by the Library of the University of Lodz
DESCRIPTION:\nworkshops on open educational resources and digital libr
 aries\nOA Seminar on open access to culture and science\nfilm that pro
 motes Open Access Week 2018\n\n\nFor more information visit http://leg
 acy.openaccessweek.org/events/events-organized-by-the-library-of-the-u
 niversity-of-lodz
DTSTART;TZID=Pacific/Midway:20181022T090000
DTEND;TZID=Pacific/Midway:20181028T150000
CATEGORIES:workshops, seminar, film
LOCATION:Poland
WEBSITE:http://The library of the Lodz University
URL:http://The library of the Lodz University
CONTACT:
ORGANIZER:
ATTACH;FMTTYPE="image/jpeg":
ATTENDEE;ROLE=REQ-PARTICIPANT;PARTSTAT=ACCEPTED;RSVP=TRUE;CN="Marzena 
 Marcinek":http://legacy.openaccessweek.org/profile/MarzenaMarcinek
END:VEVENT
END:VCALENDAR
