BEGIN:VCALENDAR
PRODID:NingEventWidget-v1
VERSION:2.0
METHOD:PUBLISH
BEGIN:VTIMEZONE
TZID:Pacific/Midway
X-LIC-LOCATION:Pacific/Midway
BEGIN:STANDARD
TZOFFSETFROM:-1100
TZOFFSETTO:-1100
TZNAME:SST
DTSTART:19700101T000000
END:STANDARD
END:VTIMEZONE
BEGIN:VEVENT
UID:5385115:Event:74558
DTSTAMP:20260421T015047Z
SUMMARY:Event in Peru: “Publica en acceso abierto. Libera el conocim
 iento”
DESCRIPTION:http://http://www.openaccessperu.org/archives/832\n\nFor m
 ore information visit http://legacy.openaccessweek.org/events/event-in
 -peru-publica-en-acceso-abierto-libera-el-conocimiento
DTSTART;TZID=Pacific/Midway:20121024T000000
DTEND;TZID=Pacific/Midway:20121025T235900
CATEGORIES:conference
LOCATION:Lima (Peru). PRIMER DÍA: Miércoles 24 de octubre, 2012 Loca
 l: VEO (Sala E), PUCP y SEGUNDO DÍA: Jueves 25 de octubre, 2012 Local
 :  Auditorio, GRADE Av. Almirante Grau #915. Barranco
WEBSITE:
URL:
CONTACT:
ORGANIZER;CN="Dominique Babini":http://legacy.openaccessweek.org/profi
 le/DominiqueBabini
ATTACH;FMTTYPE="image/jpeg":http://storage.ning.com/topology/rest/1.0/
 file/get/3057503415?profile=original
ATTENDEE;ROLE=REQ-PARTICIPANT;PARTSTAT=ACCEPTED;RSVP=TRUE;CN="Dominiqu
 e Babini":http://legacy.openaccessweek.org/profile/DominiqueBabini
END:VEVENT
END:VCALENDAR
