BEGIN:VCALENDAR
PRODID:NingEventWidget-v1
VERSION:2.0
METHOD:PUBLISH
BEGIN:VTIMEZONE
TZID:Pacific/Midway
X-LIC-LOCATION:Pacific/Midway
BEGIN:STANDARD
TZOFFSETFROM:-1100
TZOFFSETTO:-1100
TZNAME:SST
DTSTART:19700101T000000
END:STANDARD
END:VTIMEZONE
BEGIN:VEVENT
UID:5385115:Event:175536
DTSTAMP:20260424T123020Z
SUMMARY:Evenement IMT Atlantique sur le Libre Acces à partir du 8 nov
 embre
DESCRIPTION:A l'occasion de la semaine internationale 2018 du Libre Ac
 cès, les chercheurs d'IMT Atlantique sont invités à :\n1/ une prés
 entation sur le sujet,  jeudi 8 novembre, retransmise en visio sur le
 s 3 campus voir salles sur l'intranet.\n10h-10h15 :\n– rappels des c
 ontextes français, européens de l’open access, plan S\n– exemple
 s de pratiques d’établissements\n– focus sur les épi-revues\n(Na
 thalie Fontaine)\n10h15-10h30 :\n– open access : point de vu du cher
 cheur\n(Hervé Grall)\n\n10h30-11h : vos questions, vos idées pour ou
 vrir le débat sur le Libre Accès à IMT Atlantique\n2/ des ateliers 
 dépôts de texte intégral dans Hal et réponses à toutes vos questi
 ons sur les publications !\nUne exposition des posters présentés aux
  7es journées Science Ouverte Couperin : « 100 % open access : init
 iatives pour une transition réussie » 22, 23, 24 janvier 2018, Pari
 s\n\n– à Brest au Centre Vie : jeudi 8 novembre 11h30-15h, lundi 12
  novembre 11h-16h et mardi 13 novembre 10h-15h\n– à Rennes à l’E
 space Vie : jeudi 15 novembre : 10h-15h\n– à Nantes dans le Forum :
  lundi 19 novembre 10h-16h et mardi 20 novembre 10h-16h\n\n\nHervé Gr
 all, enseignant-chercheur au DAPI\nNathalie Fontaine, chargée de l’
 information scientifique et technique, DRI\n\nFor more information vis
 it http://legacy.openaccessweek.org/events/evenement-imt-atlantique-su
 r-le-libre-acces-partir-du-8-novembre
DTSTART;TZID=Pacific/Midway:20181108T000000
DTEND;TZID=Pacific/Midway:20181120T235900
CATEGORIES:présentation, et, ateliers
LOCATION:France
WEBSITE:
URL:
CONTACT:02 51 85 85 20
ORGANIZER:Nathalie Fontaine et Hervé Grall
ATTACH;FMTTYPE="image/jpeg":http://storage.ning.com/topology/rest/1.0/
 file/get/3057618515?profile=original
ATTENDEE;ROLE=REQ-PARTICIPANT;PARTSTAT=ACCEPTED;RSVP=TRUE;CN="Fontaine
  Nathalie":http://legacy.openaccessweek.org/profile/FontaineNathalie
END:VEVENT
END:VCALENDAR
