BEGIN:VCALENDAR
PRODID:NingEventWidget-v1
VERSION:2.0
METHOD:PUBLISH
BEGIN:VTIMEZONE
TZID:Pacific/Midway
X-LIC-LOCATION:Pacific/Midway
BEGIN:STANDARD
TZOFFSETFROM:-1100
TZOFFSETTO:-1100
TZNAME:SST
DTSTART:19700101T000000
END:STANDARD
END:VTIMEZONE
BEGIN:VEVENT
UID:5385115:Event:159441
DTSTAMP:20260423T184519Z
SUMMARY:EUI Open Access week: Open Access Practical Session
DESCRIPTION:25 October 2017 13.30-16.00 Open Access Practical Session
 : what you need to know and how to start (Badia Room II)\n\nFor more 
 information visit http://legacy.openaccessweek.org/events/eui-open-acc
 ess-week-open-access-practical-session
DTSTART;TZID=Pacific/Midway:20171025T133000
DTEND;TZID=Pacific/Midway:20171025T160000
CATEGORIES:workshop
LOCATION:Italy
WEBSITE:http://www.eui.eu
URL:http://www.eui.eu
CONTACT:
ORGANIZER;CN="Lotta Svantesson":http://legacy.openaccessweek.org/profi
 le/LottaSvantesson
ATTACH;FMTTYPE="image/jpeg":
ATTENDEE;ROLE=REQ-PARTICIPANT;PARTSTAT=ACCEPTED;RSVP=TRUE;CN="Lotta Sv
 antesson":http://legacy.openaccessweek.org/profile/LottaSvantesson
END:VEVENT
END:VCALENDAR
