BEGIN:VCALENDAR
PRODID:NingEventWidget-v1
VERSION:2.0
METHOD:PUBLISH
BEGIN:VTIMEZONE
TZID:Pacific/Midway
X-LIC-LOCATION:Pacific/Midway
BEGIN:STANDARD
TZOFFSETFROM:-1100
TZOFFSETTO:-1100
TZNAME:SST
DTSTART:19700101T000000
END:STANDARD
END:VTIMEZONE
BEGIN:VEVENT
UID:5385115:Event:175953
DTSTAMP:20260421T025222Z
SUMMARY:Equity in Information Access at Dartmouth and Regionally
DESCRIPTION:Please Register!\nJoin the Dartmouth Library and the Offic
 e of Institutional Diversity and Equity for a panel discussion explori
 ng Equity in Information Access at Dartmouth and Regionally. This pane
 l is being presented as part of the Dartmouth Library's recognition of
  Open Access Week: Designing Equitable Foundations for Open Knowledge.
  Panelists will share perspectives on the role of open access in their
  respective fields and discuss barriers to knowledge distribution and 
 production\n\nFor more information visit http://legacy.openaccessweek.
 org/events/equity-in-information-access-at-dartmouth-and-regionally
DTSTART;TZID=Pacific/Midway:20181022T114500
DTEND;TZID=Pacific/Midway:20181022T130000
CATEGORIES:panel, session
LOCATION:United States of America
WEBSITE:https://www.dartmouth.edu/~library/schcomm/oaweek_2018.html
URL:https://www.dartmouth.edu/~library/schcomm/oaweek_2018.html
CONTACT:
ORGANIZER:Jen Green, Digital Scholarship Librarian and the Office of I
 nstitutional Diversity and Equity
ATTACH;FMTTYPE="image/jpeg":http://storage.ning.com/topology/rest/1.0/
 file/get/3057618203?profile=original
ATTENDEE;ROLE=REQ-PARTICIPANT;PARTSTAT=ACCEPTED;RSVP=TRUE;CN="Jen Gree
 n":http://legacy.openaccessweek.org/profile/JenGreen
END:VEVENT
END:VCALENDAR
