BEGIN:VCALENDAR
PRODID:NingEventWidget-v1
VERSION:2.0
METHOD:PUBLISH
BEGIN:VTIMEZONE
TZID:Pacific/Midway
X-LIC-LOCATION:Pacific/Midway
BEGIN:STANDARD
TZOFFSETFROM:-1100
TZOFFSETTO:-1100
TZNAME:SST
DTSTART:19700101T000000
END:STANDARD
END:VTIMEZONE
BEGIN:VEVENT
UID:5385115:Event:184340
DTSTAMP:20260419T042629Z
SUMMARY:English writing skills: Preparing your paper for an OA journal
DESCRIPTION:Academic research and publishing models are changing fast,
  largely in response to ‘researcher-led’ initiatives towards open 
 access (OA). As part of Open Access Week, our free webinar in collabor
 ation of the Charlesworth Group and Albertina icome Praha/Bratislava w
 ill teach you how to put together an academic paper with publication i
 n an OA journal in mind. You need to be well informed so that you can 
 prepare your work effectively. We will show you how you can effectivel
 y harness the global move towards OA to enhance your career.\nPlease r
 egister.\nInvitation in Czech and Slovak.\n\nFor more information visi
 t http://legacy.openaccessweek.org/events/english-writing-skills-prepa
 ring-your-paper-for-an-oa-journal
DTSTART;TZID=Pacific/Midway:20191024T100000
DTEND;TZID=Pacific/Midway:20191024T110000
CATEGORIES:webinar
LOCATION:Slovakia
WEBSITE:https://register.gotowebinar.com/register/4142306005944307979
URL:https://register.gotowebinar.com/register/4142306005944307979
CONTACT:
ORGANIZER:Charlesworth Group, Albertina icome Praha/Bratislava
ATTACH;FMTTYPE="image/jpeg":
ATTENDEE;ROLE=REQ-PARTICIPANT;PARTSTAT=ACCEPTED;RSVP=TRUE;CN="Lucia Po
 lednikova":http://legacy.openaccessweek.org/profile/LuciaPolednikova
END:VEVENT
END:VCALENDAR
