BEGIN:VCALENDAR
PRODID:NingEventWidget-v1
VERSION:2.0
METHOD:PUBLISH
BEGIN:VTIMEZONE
TZID:Pacific/Midway
X-LIC-LOCATION:Pacific/Midway
BEGIN:STANDARD
TZOFFSETFROM:-1100
TZOFFSETTO:-1100
TZNAME:SST
DTSTART:19700101T000000
END:STANDARD
END:VTIMEZONE
BEGIN:VEVENT
UID:5385115:Event:107981
DTSTAMP:20260420T234528Z
SUMMARY:English Literature & Humanites World Journal Successfully Publ
 ished Fifth Issue
DESCRIPTION:We are glad to inform you that IJELLH has been successfull
 y published its fifth issue, please view authors research papers here 
 Volume I Issue V February 2014 ,Next Issue will be published on 28 Apr
 il, the deadline of submitting your research papers is 18 April.\n\n\n
 \nFor more information visit http://legacy.openaccessweek.org/events/e
 nglish-literature-humanites-world-journal-successfully-published
DTSTART;TZID=Pacific/Midway:20140409T180000
DTEND;TZID=Pacific/Midway:20140428T120000
CATEGORIES:online, journal, publication, volume, ii, ijellh
LOCATION:World Wide
WEBSITE:http://ijellh.com/
URL:http://ijellh.com/
CONTACT:+91 782-857-4100
ORGANIZER;CN="Rajeev Tiwari":http://legacy.openaccessweek.org/profile/
 RajeevTiwari
ATTACH;FMTTYPE="image/jpeg":
ATTENDEE;ROLE=REQ-PARTICIPANT;PARTSTAT=ACCEPTED;RSVP=TRUE;CN="Rajeev T
 iwari":http://legacy.openaccessweek.org/profile/RajeevTiwari
END:VEVENT
END:VCALENDAR
