BEGIN:VCALENDAR
PRODID:NingEventWidget-v1
VERSION:2.0
METHOD:PUBLISH
BEGIN:VTIMEZONE
TZID:Pacific/Midway
X-LIC-LOCATION:Pacific/Midway
BEGIN:STANDARD
TZOFFSETFROM:-1100
TZOFFSETTO:-1100
TZNAME:SST
DTSTART:19700101T000000
END:STANDARD
END:VTIMEZONE
BEGIN:VEVENT
UID:5385115:Event:101441
DTSTAMP:20260425T101332Z
SUMMARY:English Articles Writing Seminar
DESCRIPTION:Agenda\n13:00-13:25 - Reception\n\n13:25-13:50 (25min.)\nO
 pen Access as Academic Achievements and HUSCAP (Japanese)\nMr. Kenichi
  Misumi(Hokkaido University, Library staff)\n \n13:50-14:10 (20min.)\
 nWhat Can Researchers do with Open Access? (Japanese)\nPh D. Natsu Ish
 ii(BioMed Central - Japan, Editor)\n \n14:10-14:50 (40min.)\n　How t
 o Publish Your Articles in English Journals (Japanese)\n　Ph D. Takaf
 umi Maeda\n  - Associate Professor, Division of Human Environmental 
 Systems, Faculty of Engineering, Hokkaido University\n  - Journal of 
 Physiological Anthropology, Editor\n \n14:50-15:00 - Break\n \n15:00
 -16:00 (60min.)\nAuthor Academy: Writing to communicate\nDr. Jeffrey R
 obens (Edanz, Senior Editor)\n\nFor more information visit http://lega
 cy.openaccessweek.org/events/english-articles-writing-seminar
DTSTART;TZID=Pacific/Midway:20131022T130000
DTEND;TZID=Pacific/Midway:20131022T160000
CATEGORIES:author, workshop
LOCATION:Hokkaido University (large meeting room of the University Lib
 rary - 4th floor of the entrance building)
WEBSITE:https://www.lib.hokudai.ac.jp/20131022_seminar/
URL:https://www.lib.hokudai.ac.jp/20131022_seminar/
CONTACT:
ORGANIZER;CN="BioMed Central":http://legacy.openaccessweek.org/profile
 /biomedcentral
ATTACH;FMTTYPE="image/jpeg":
ATTENDEE;ROLE=REQ-PARTICIPANT;PARTSTAT=ACCEPTED;RSVP=TRUE;CN="BioMed C
 entral":http://legacy.openaccessweek.org/profile/biomedcentral
END:VEVENT
END:VCALENDAR
