BEGIN:VCALENDAR
PRODID:NingEventWidget-v1
VERSION:2.0
METHOD:PUBLISH
BEGIN:VTIMEZONE
TZID:Pacific/Midway
X-LIC-LOCATION:Pacific/Midway
BEGIN:STANDARD
TZOFFSETFROM:-1100
TZOFFSETTO:-1100
TZNAME:SST
DTSTART:19700101T000000
END:STANDARD
END:VTIMEZONE
BEGIN:VEVENT
UID:5385115:Event:204221
DTSTAMP:20260421T070703Z
SUMMARY:El rol docente del médico residente
DESCRIPTION:El rol docente del médico residente (presentación del MO
 OC)\n\n\n\nFor more information visit http://legacy.openaccessweek.org
 /events/el-rol-de-docente-m-dico-residente-presentaci-n-del-mooc
DTSTART;TZID=Pacific/Midway:20201023T120000
DTEND;TZID=Pacific/Midway:20201023T130000
CATEGORIES:webinar
LOCATION:Mexico
WEBSITE:https://youtu.be/yqTcdqZujqo
URL:https://youtu.be/yqTcdqZujqo
CONTACT:
ORGANIZER:CUAIEED · B@UNAM y MOOC | Universidad Nacional Autónoma de
  México
ATTACH;FMTTYPE="image/jpeg":https://storage.ning.com/topology/rest/1.0
 /file/get/8042921687?profile=original
ATTENDEE;ROLE=REQ-PARTICIPANT;PARTSTAT=ACCEPTED;RSVP=TRUE;CN=Jackeline
 :http://legacy.openaccessweek.org/profile/Jackeline
END:VEVENT
END:VCALENDAR
