BEGIN:VCALENDAR
PRODID:NingEventWidget-v1
VERSION:2.0
METHOD:PUBLISH
BEGIN:VTIMEZONE
TZID:Pacific/Midway
X-LIC-LOCATION:Pacific/Midway
BEGIN:STANDARD
TZOFFSETFROM:-1100
TZOFFSETTO:-1100
TZNAME:SST
DTSTART:19700101T000000
END:STANDARD
END:VTIMEZONE
BEGIN:VEVENT
UID:5385115:Event:175099
DTSTAMP:20260421T205554Z
SUMMARY:Editatón 2018 - Acceso abierto en el repositorio GREDOS
DESCRIPTION:Edición conjunta de documentos en el repositorio GREDOS.u
 sal.esEDITATÓN 2018Facultad de Traducción y Documentación, Aula Inf
 ormática 3Martes 23 octubre 2018, 17:00-19:00 h.\n\n\nFor more inform
 ation visit http://legacy.openaccessweek.org/events/editat-n-2018-acce
 so-abierto-en-el-repositorio-gredos
DTSTART;TZID=Pacific/Midway:20181023T170000
DTEND;TZID=Pacific/Midway:20181023T190000
CATEGORIES:workshop
LOCATION:Spain
WEBSITE:http://diarium.usal.es/dbd/editaton2018/
URL:http://diarium.usal.es/dbd/editaton2018/
CONTACT:
ORGANIZER:Facultad de Traducción y Documentación
ATTACH;FMTTYPE="image/jpeg":http://storage.ning.com/topology/rest/1.0/
 file/get/3057618060?profile=original
ATTENDEE;ROLE=REQ-PARTICIPANT;PARTSTAT=ACCEPTED;RSVP=TRUE;CN="Jose Ant
 onio Merlo Vega":http://legacy.openaccessweek.org/profile/JoseAntonioM
 erloVega
END:VEVENT
END:VCALENDAR
