BEGIN:VCALENDAR
PRODID:NingEventWidget-v1
VERSION:2.0
METHOD:PUBLISH
BEGIN:VTIMEZONE
TZID:Pacific/Midway
X-LIC-LOCATION:Pacific/Midway
BEGIN:STANDARD
TZOFFSETFROM:-1100
TZOFFSETTO:-1100
TZNAME:SST
DTSTART:19700101T000000
END:STANDARD
END:VTIMEZONE
BEGIN:VEVENT
UID:5385115:Event:163888
DTSTAMP:20260421T010754Z
SUMMARY:Echanges sur les enjeux de l'open access
DESCRIPTION:Café/discussion, visionnage de vidéos, démonstration de
  dépôt d'une publication sur l'archive ouverte de l'école...\n\n\nF
 or more information visit http://legacy.openaccessweek.org/events/echa
 nges-sur-les-enjeux-de-l-open-access
DTSTART;TZID=Pacific/Midway:20171027T100000
DTEND;TZID=Pacific/Midway:20171027T110000
CATEGORIES:discussions
LOCATION:France
WEBSITE:https://artsetmetiers.fr/fr/institut/chambery
URL:https://artsetmetiers.fr/fr/institut/chambery
CONTACT:
ORGANIZER:Nathalie GARNIER ROY
ATTACH;FMTTYPE="image/jpeg":http://storage.ning.com/topology/rest/1.0/
 file/get/3057600994?profile=original
ATTENDEE;ROLE=REQ-PARTICIPANT;PARTSTAT=ACCEPTED;RSVP=TRUE;CN="GARNIER 
 ROY":http://legacy.openaccessweek.org/profile/GARNIERROY
END:VEVENT
END:VCALENDAR
