BEGIN:VCALENDAR
PRODID:NingEventWidget-v1
VERSION:2.0
METHOD:PUBLISH
BEGIN:VTIMEZONE
TZID:Pacific/Midway
X-LIC-LOCATION:Pacific/Midway
BEGIN:STANDARD
TZOFFSETFROM:-1100
TZOFFSETTO:-1100
TZNAME:SST
DTSTART:19700101T000000
END:STANDARD
END:VTIMEZONE
BEGIN:VEVENT
UID:5385115:Event:53031
DTSTAMP:20260419T162342Z
SUMMARY:E-learning del acceso abierto y revistas regionales
DESCRIPTION:SEMANA DEL ACCESO ABIERTO 2011 - PERÚVideoconferencia a c
 argo de: Ravi Murugesan. International Network for the Availability 
 of Scientific Publications - INASP\n\nFor more information visit http:
 //legacy.openaccessweek.org/events/e-learning-del-acceso-abierto-y-rev
 istas-regionales
DTSTART;TZID=Pacific/Midway:20111026T103000
DTEND;TZID=Pacific/Midway:20111026T113000
CATEGORIES:videoconferencia
LOCATION:Pontificia Universidad Católica del Perú
WEBSITE:http://www.openaccessperu.org/
URL:http://www.openaccessperu.org/
CONTACT:
ORGANIZER:Open Access Perú
ATTACH;FMTTYPE="image/jpeg":http://storage.ning.com/topology/rest/1.0/
 file/get/2945978500?profile=original
ATTENDEE;ROLE=REQ-PARTICIPANT;PARTSTAT=ACCEPTED;RSVP=TRUE;CN="Julio Sa
 ntillán Aldana":http://legacy.openaccessweek.org/profile/JulioSantill
 anAldana
END:VEVENT
END:VCALENDAR
