BEGIN:VCALENDAR
PRODID:NingEventWidget-v1
VERSION:2.0
METHOD:PUBLISH
BEGIN:VTIMEZONE
TZID:Pacific/Midway
X-LIC-LOCATION:Pacific/Midway
BEGIN:STANDARD
TZOFFSETFROM:-1100
TZOFFSETTO:-1100
TZNAME:SST
DTSTART:19700101T000000
END:STANDARD
END:VTIMEZONE
BEGIN:VEVENT
UID:5385115:Event:136735
DTSTAMP:20260419T224044Z
SUMMARY:Durban University of Technology OER Workshop
DESCRIPTION:OER workshop for DUT Community facilitated by SAIDE\nTopic
 s include:\n1. OERs and Licensing\n2.  Evaluating and quality assurin
 g OERs\n3. Case Study: finding and integrating OERs\n4. Support for OE
 R development\n\nFor more information visit http://legacy.openaccesswe
 ek.org/events/durban-university-of-technology-oer-workshop
DTSTART;TZID=Pacific/Midway:20151016T000000
DTEND;TZID=Pacific/Midway:20151016T235900
CATEGORIES:workshop
LOCATION:South Africa
WEBSITE:http://library.dut.ac.za
URL:http://library.dut.ac.za
CONTACT:
ORGANIZER;CN="Sagren Moodley":http://legacy.openaccessweek.org/profile
 /SagrenMoodley
ATTACH;FMTTYPE="image/jpeg":
ATTENDEE;ROLE=REQ-PARTICIPANT;PARTSTAT=ACCEPTED;RSVP=TRUE;CN="Sagren M
 oodley":http://legacy.openaccessweek.org/profile/SagrenMoodley
END:VEVENT
END:VCALENDAR
