BEGIN:VCALENDAR
PRODID:NingEventWidget-v1
VERSION:2.0
METHOD:PUBLISH
BEGIN:VTIMEZONE
TZID:Pacific/Midway
X-LIC-LOCATION:Pacific/Midway
BEGIN:STANDARD
TZOFFSETFROM:-1100
TZOFFSETTO:-1100
TZNAME:SST
DTSTART:19700101T000000
END:STANDARD
END:VTIMEZONE
BEGIN:VEVENT
UID:5385115:Event:149280
DTSTAMP:20260421T021455Z
SUMMARY:Drop-in Clinics for OA help - Macquarie University
DESCRIPTION:Come by the Macquarie University Library on Tuesday from 9
  AM to 1 PM to ask questions about OA and have them answered by Librar
 y staff. Bring your author agreements, research projects, data queries
 ...anything! We'll help you make things public and increase visibility
 .\n\nFor more information visit http://legacy.openaccessweek.org/event
 s/drop-in-clinics-for-oa-help-macquarie-university
DTSTART;TZID=Pacific/Midway:20161025T090000
DTEND;TZID=Pacific/Midway:20161025T130000
CATEGORIES:drop-in, clinic
LOCATION:Australia
WEBSITE:
URL:
CONTACT:
ORGANIZER;CN="Alison Makins":http://legacy.openaccessweek.org/profile/
 AlisonMakins874
ATTACH;FMTTYPE="image/jpeg":
ATTENDEE;ROLE=REQ-PARTICIPANT;PARTSTAT=ACCEPTED;RSVP=TRUE;CN="Alison M
 akins":http://legacy.openaccessweek.org/profile/AlisonMakins874
END:VEVENT
END:VCALENDAR
