BEGIN:VCALENDAR
PRODID:NingEventWidget-v1
VERSION:2.0
METHOD:PUBLISH
BEGIN:VTIMEZONE
TZID:Pacific/Midway
X-LIC-LOCATION:Pacific/Midway
BEGIN:STANDARD
TZOFFSETFROM:-1100
TZOFFSETTO:-1100
TZNAME:SST
DTSTART:19700101T000000
END:STANDARD
END:VTIMEZONE
BEGIN:VEVENT
UID:5385115:Event:8442
DTSTAMP:20260419T103326Z
SUMMARY:Disseminating research through open repositories
DESCRIPTION:Conference in Catalan about the institutional repository a
 t the Universitat de Barcelona and how researchers can contribute with
  their publications\nThe speaker will be Ignasi Labastida, head of the
  Oficina de Difusió del Coneixement, CRAI - Universitat de Barcelona.
 \nMore info at http://www.ub.edu/odc\n\nFor more information visit htt
 p://legacy.openaccessweek.org/events/disseminating-research-through
DTSTART;TZID=Pacific/Midway:20101019T160000
DTEND;TZID=Pacific/Midway:20101019T170000
CATEGORIES:conference
LOCATION:Aula d'Informàtica, Biblioteca de Campus Diagonal Nord
WEBSITE:http://maps.google.com/maps?f=q&source=s_q&hl=ca&geocode=&q=Ca
 rrer+del+Tinent+Coronel+Gonz%C3%A1lez+Tablas,1,+08028+Barcelona,+Catal
 unya,+Espanya&sll=41.384214,2.110858&sspn=0.009628,0.01929&ie=UTF8&hq=
 &hnear=Carrer+del+Tinent+Coronel+Gonz%C3%A1lez+Tablas,+08028+Barcelona
 ,+Catalunya,+Espanya&z=16
URL:http://maps.google.com/maps?f=q&source=s_q&hl=ca&geocode=&q=Carrer
 +del+Tinent+Coronel+Gonz%C3%A1lez+Tablas,1,+08028+Barcelona,+Catalunya
 ,+Espanya&sll=41.384214,2.110858&sspn=0.009628,0.01929&ie=UTF8&hq=&hne
 ar=Carrer+del+Tinent+Coronel+Gonz%C3%A1lez+Tablas,+08028+Barcelona,+Ca
 talunya,+Espanya&z=16
CONTACT:
ORGANIZER:Oficina de Difusió del Coneixement - CRAI UB
ATTACH;FMTTYPE="image/jpeg":http://storage.ning.com/topology/rest/1.0/
 file/get/3057470450?profile=original
ATTENDEE;ROLE=REQ-PARTICIPANT;PARTSTAT=ACCEPTED;RSVP=TRUE;CN="Ignasi L
 abastida":http://legacy.openaccessweek.org/profile/IgnasiLabastida
END:VEVENT
END:VCALENDAR
