BEGIN:VCALENDAR
PRODID:NingEventWidget-v1
VERSION:2.0
METHOD:PUBLISH
BEGIN:VTIMEZONE
TZID:Pacific/Midway
X-LIC-LOCATION:Pacific/Midway
BEGIN:STANDARD
TZOFFSETFROM:-1100
TZOFFSETTO:-1100
TZNAME:SST
DTSTART:19700101T000000
END:STANDARD
END:VTIMEZONE
BEGIN:VEVENT
UID:5385115:Event:138387
DTSTAMP:20260423T020120Z
SUMMARY:Discovery and Open Access to Spatial Data: Implementing the Sp
 atial Data Explorer at the UA
DESCRIPTION:Looking for open spatial data you can use for your researc
 h or teaching? The Libraries recently launched a new spatial data disc
 overy portal, Spatial Data Explorer, https://geo.library.arizona.edu. 
 The Explorer brings together spatial data from various UA spatial data
  repositories into one geoportal.  As well, in joining the Open Geop
 ortal community, we also have access to tens of thousands of spatial d
 atasets curated by other participating universities, all of which are
  accessible through our portal.  We will show you how easy it is to
  explore, visualize, download and share spatial data through the web i
 nterface.  Spatial data distribution and discovery has never been eas
 ier at the University of Arizona. Have spatial data you’d like to sh
 are? We’d love to talk to you!\n\nFor more information visit http://
 legacy.openaccessweek.org/events/discovery-and-open-access-to-spatial-
 data-implementing-the
DTSTART;TZID=Pacific/Midway:20151021T140000
DTEND;TZID=Pacific/Midway:20151021T150000
CATEGORIES:presentation, and, panel
LOCATION:3
WEBSITE:http://www.library.arizona.edu/news/entries/view/3007
URL:http://www.library.arizona.edu/news/entries/view/3007
CONTACT:
ORGANIZER;CN="Dan Lee":http://legacy.openaccessweek.org/profile/DanLee
ATTACH;FMTTYPE="image/jpeg":
ATTENDEE;ROLE=REQ-PARTICIPANT;PARTSTAT=ACCEPTED;RSVP=TRUE;CN="Dan Lee"
 :http://legacy.openaccessweek.org/profile/DanLee
END:VEVENT
END:VCALENDAR
