BEGIN:VCALENDAR
PRODID:NingEventWidget-v1
VERSION:2.0
METHOD:PUBLISH
BEGIN:VTIMEZONE
TZID:Pacific/Midway
X-LIC-LOCATION:Pacific/Midway
BEGIN:STANDARD
TZOFFSETFROM:-1100
TZOFFSETTO:-1100
TZNAME:SST
DTSTART:19700101T000000
END:STANDARD
END:VTIMEZONE
BEGIN:VEVENT
UID:5385115:Event:176422
DTSTAMP:20260419T035916Z
SUMMARY:Ding-Editionen: Vom Artefakt übers Corpus ins Netz
DESCRIPTION:Digital humanists meet science historians!\nThe edition of
  things - from jewellery to bones, from pottery to coins, from stone m
 onuments to burials - in corpora is a central tool of knowledge genera
 tion in archeology. The majority of archaeological finds are \"availab
 le\" through academic publications - these \"things\" are published as
  line drawings, photographs, and descriptions in high-quality books. B
 ut how do epistemic practices change with the introduction of new medi
 a? \nThis week the archaeological research institute Römisch-Germani
 sche Kommission des Deutschen Archäologischen Instituts (RGK) in Fran
 kfurt a.M., Germany, hosts a workshop dealing with the possibilities a
 nd challenges digital technology provides for making the mass of thing
 s available to a wider audience - both academic and public.\n\nFor reg
 istration please contact Dr. David Wigg-Wolf: david.wigg-wolf(at)dains
 t.de\n\nFor more information visit http://legacy.openaccessweek.org/ev
 ents/ding-editionen-vom-artefakt-bers-corpus-ins-netz
DTSTART;TZID=Pacific/Midway:20181025T120000
DTEND;TZID=Pacific/Midway:20181026T160000
CATEGORIES:workshop
LOCATION:Germany
WEBSITE:https://www.dainst.org/dai/presse/nachricht/-/asset_publisher/
 XV2P83pNHjQz/content/ding-editionen-vom-artefakt-ubers-corpus-ins-netz
URL:https://www.dainst.org/dai/presse/nachricht/-/asset_publisher/XV2P
 83pNHjQz/content/ding-editionen-vom-artefakt-ubers-corpus-ins-netz
CONTACT:+49699758180
ORGANIZER:Kerstin P. Hofmann / David Wigg-Wolf
ATTACH;FMTTYPE="image/jpeg":http://storage.ning.com/topology/rest/1.0/
 file/get/3057619692?profile=original
ATTENDEE;ROLE=REQ-PARTICIPANT;PARTSTAT=ACCEPTED;RSVP=TRUE;CN="Alexande
 r Gramsch":http://legacy.openaccessweek.org/profile/AlexanderGramsch
END:VEVENT
END:VCALENDAR
