BEGIN:VCALENDAR
PRODID:NingEventWidget-v1
VERSION:2.0
METHOD:PUBLISH
BEGIN:VTIMEZONE
TZID:Pacific/Midway
X-LIC-LOCATION:Pacific/Midway
BEGIN:STANDARD
TZOFFSETFROM:-1100
TZOFFSETTO:-1100
TZNAME:SST
DTSTART:19700101T000000
END:STANDARD
END:VTIMEZONE
BEGIN:VEVENT
UID:5385115:Event:53090
DTSTAMP:20260419T055524Z
SUMMARY:Digital Publishing Models: Faculty Experiences, Tenure, and Op
 en Access
DESCRIPTION:Join professors Rachel J.C. Chen, Benjamin Fitzpatrick, Mi
 chael Fry, and Mark Harmon, as well as\nVice Provost for Faculty Affai
 rs Sarah Gardial, to talk about\nOpen Access journals, author rights, 
 and your publications.\nBring your questions and comments for this inf
 ormal\nconversation about Open Access publishing.  More information: 
 http://info.lib.utk.edu/news/blog/2011/10/13/digital-publishing-models
 /\n\nFor more information visit http://legacy.openaccessweek.org/event
 s/digital-publishing-models-faculty-experiences-tenure-and-open
DTSTART;TZID=Pacific/Midway:20111026T153000
DTEND;TZID=Pacific/Midway:20111026T163000
CATEGORIES:forum, panel, discussion
LOCATION:University of Tennessee
WEBSITE:http://maps.google.com/maps?q=1015+Volunteer+Boulevard,+Knoxvi
 lle,+TN&hl=en&sll=37.0625,-95.677068&sspn=72.431071,100.371094&vpsrc=0
 &hnear=1015+Volunteer+Blvd,+Knoxville,+Tennessee+37916&t=m&z=17
URL:http://maps.google.com/maps?q=1015+Volunteer+Boulevard,+Knoxville,
 +TN&hl=en&sll=37.0625,-95.677068&sspn=72.431071,100.371094&vpsrc=0&hne
 ar=1015+Volunteer+Blvd,+Knoxville,+Tennessee+37916&t=m&z=17
CONTACT:865.974.6107
ORGANIZER;CN="Rachel Radom":http://legacy.openaccessweek.org/profile/R
 achelRadom
ATTACH;FMTTYPE="image/jpeg":
ATTENDEE;ROLE=REQ-PARTICIPANT;PARTSTAT=ACCEPTED;RSVP=TRUE;CN="Rachel R
 adom":http://legacy.openaccessweek.org/profile/RachelRadom
END:VEVENT
END:VCALENDAR
