BEGIN:VCALENDAR
PRODID:NingEventWidget-v1
VERSION:2.0
METHOD:PUBLISH
BEGIN:VTIMEZONE
TZID:Pacific/Midway
X-LIC-LOCATION:Pacific/Midway
BEGIN:STANDARD
TZOFFSETFROM:-1100
TZOFFSETTO:-1100
TZNAME:SST
DTSTART:19700101T000000
END:STANDARD
END:VTIMEZONE
BEGIN:VEVENT
UID:5385115:Event:161673
DTSTAMP:20260423T085442Z
SUMMARY:Die Internationale Open Access Woche 2017 in der UA Ruhr
DESCRIPTION:Open Access, Kaffee und mehr ... die Universitätsbiblioth
 eken der Ruhr Universität Bochum, der Technischen Universität Dortmu
 nd und der Universität Duisburg-Essen nehmen an der Open Access  Woc
 he mit Coffee Lectures teil.\nDas Programm am Freitag, den 27.10.2017\
 nUB Bochum, EG 13:15 All you can ORCID\nSie sind herzlich eingeladen! 
 Weitere Informationen finden Sie auch unter: Ruhr Universität Bochum 
 Technische Universität Dortmund Universität Duisburg-Essen\n\nFor mo
 re information visit http://legacy.openaccessweek.org/events/die-inter
 nationale-open-access-woche-2017-in-der-ua-ruhr-4
DTSTART;TZID=Pacific/Midway:20171027T131500
DTEND;TZID=Pacific/Midway:20171027T134500
CATEGORIES:coffee, lecture, presentation
LOCATION:Germany
WEBSITE:
URL:
CONTACT:
ORGANIZER;CN="Katrin Falkenstein-Feldhoff":http://legacy.openaccesswee
 k.org/profile/KatrinFalkensteinFeldhoff
ATTACH;FMTTYPE="image/jpeg":
ATTENDEE;ROLE=REQ-PARTICIPANT;PARTSTAT=ACCEPTED;RSVP=TRUE;CN="Katrin F
 alkenstein-Feldhoff":http://legacy.openaccessweek.org/profile/KatrinFa
 lkensteinFeldhoff
END:VEVENT
END:VCALENDAR
