BEGIN:VCALENDAR
PRODID:NingEventWidget-v1
VERSION:2.0
METHOD:PUBLISH
BEGIN:VTIMEZONE
TZID:Pacific/Midway
X-LIC-LOCATION:Pacific/Midway
BEGIN:STANDARD
TZOFFSETFROM:-1100
TZOFFSETTO:-1100
TZNAME:SST
DTSTART:19700101T000000
END:STANDARD
END:VTIMEZONE
BEGIN:VEVENT
UID:5385115:Event:138126
DTSTAMP:20260422T225740Z
SUMMARY:Derechos de autor: lo que tenÃ©s que saber antes de publicar t
 u paper
DESCRIPTION:Charla \"Derechos de autor: lo que tenÃ©s que saber antes 
 de publicar tu paper\" a cargo de MarÃ­a Clara Lima, Directora de la D
 irecciÃ³n de Propiedad Intelectual de la Universidad Nacional de La Pl
 ata. Se llevarÃ¡ a cabo el dÃ­a miÃ©rcoles 21 de octubre a las 12:00hs
 . en el Auditorio de la Planta Baja de la Facultad de Ciencias Natural
 es y Museo-UNLP (Av. 60 y 122, s/n (1900) La Plata, Buenos Aires. Arge
 ntina. Mapa: https://goo.gl/maps/g8dG1arr3fH2). Es abierta a todo pÃºb
 lico y se entregarÃ¡n certificados de asistencia.La charla, dirigida a
  investigadores, docentes, tesistas, alumnos y pÃºblico en general, ab
 ordarÃ¡ temas como los derechos de autor en las investigaciones cientÃ
 ­ficas, las implicancias de los acuerdos con las revistas, cesiÃ³n de 
 derechos a la editorial, caracterÃ­sticas del autoarchivo, entre otros
 .Organizan:Secretaria AcadÃ©mica FCNyMSecretaria de ExtensiÃ³n FCNyMSe
 cretaria de ExtensiÃ³n ILPLARed Bibliotecas FCNyMMÃ¡s informaciÃ³n:Sec
 retaria de ExtensiÃ³n FCNyMsecext@fcnym.unlp.edu.ar(54-221) 425-8252 /
  422-8451, int. 15. Fax: int. 28\n\nFor more information visit http://
 legacy.openaccessweek.org/events/derechos-de-autor-lo-que-ten-s-que-sa
 ber-antes-de-publicar-tu
DTSTART;TZID=Pacific/Midway:20151021T140000
DTEND;TZID=Pacific/Midway:20151021T160000
CATEGORIES:charla
LOCATION:Argentina
WEBSITE:http://www.bfa.fcnym.unlp.edu.ar
URL:http://www.bfa.fcnym.unlp.edu.ar
CONTACT:
ORGANIZER:Biblioteca Florentino Ameghino Facultad de Ciencias Naturale
 s y Museo de La Plata Universidad Nacional de La Plata
ATTACH;FMTTYPE="image/jpeg":http://storage.ning.com/topology/rest/1.0/
 file/get/3057570771?profile=original
ATTENDEE;ROLE=REQ-PARTICIPANT;PARTSTAT=ACCEPTED;RSVP=TRUE;CN="Syllaba 
 Press International Inc.":http://legacy.openaccessweek.org/profile/syl
 labapress
ATTENDEE;ROLE=REQ-PARTICIPANT;PARTSTAT=ACCEPTED;RSVP=TRUE;CN="Luciano 
 Alejandro Maxit":http://legacy.openaccessweek.org/profile/LucianoAleja
 ndroMaxit59
ATTENDEE;ROLE=REQ-PARTICIPANT;PARTSTAT=ACCEPTED;RSVP=TRUE;CN=BIBHUMA:h
 ttp://legacy.openaccessweek.org/profile/BIBHUMA
END:VEVENT
END:VCALENDAR
