BEGIN:VCALENDAR
PRODID:NingEventWidget-v1
VERSION:2.0
METHOD:PUBLISH
BEGIN:VTIMEZONE
TZID:Pacific/Midway
X-LIC-LOCATION:Pacific/Midway
BEGIN:STANDARD
TZOFFSETFROM:-1100
TZOFFSETTO:-1100
TZNAME:SST
DTSTART:19700101T000000
END:STANDARD
END:VTIMEZONE
BEGIN:VEVENT
UID:5385115:Event:149814
DTSTAMP:20260421T012422Z
SUMMARY:Derechos de autor en el acceso abierto
DESCRIPTION:La Universidad de Navarra organiza la conferencia Derechos
  de autor en el Acceso Abierto, que será impartida por Ignasi Labasti
 da.\nMiércoles 2 de noviembre, 12:30 h., Salón del ICS\n\n\n\n\nFor 
 more information visit http://legacy.openaccessweek.org/events/derecho
 s-de-autor-en-el-acceso-abierto
DTSTART;TZID=Pacific/Midway:20161102T123000
DTEND;TZID=Pacific/Midway:20161102T140000
CATEGORIES:conference
LOCATION:Spain
WEBSITE:
URL:
CONTACT:
ORGANIZER;CN="Amparo Cózar Santiago":http://legacy.openaccessweek.org
 /profile/AmparoCozarSantiago
ATTACH;FMTTYPE="image/jpeg":http://storage.ning.com/topology/rest/1.0/
 file/get/3057584372?profile=original
ATTENDEE;ROLE=REQ-PARTICIPANT;PARTSTAT=ACCEPTED;RSVP=TRUE;CN="Amparo C
 ózar Santiago":http://legacy.openaccessweek.org/profile/AmparoCozarSa
 ntiago
END:VEVENT
END:VCALENDAR
