BEGIN:VCALENDAR
PRODID:NingEventWidget-v1
VERSION:2.0
METHOD:PUBLISH
BEGIN:VTIMEZONE
TZID:Pacific/Midway
X-LIC-LOCATION:Pacific/Midway
BEGIN:STANDARD
TZOFFSETFROM:-1100
TZOFFSETTO:-1100
TZNAME:SST
DTSTART:19700101T000000
END:STANDARD
END:VTIMEZONE
BEGIN:VEVENT
UID:5385115:Event:100472
DTSTAMP:20260423T012852Z
SUMMARY:Decorating George Mason (statue) for OA Week
DESCRIPTION:Come help us get George dressed up for International Open 
 Access Week! We’ll bring the decorations, you bring the creativity.\
 nGeorge is a large bronze statue that we have decorated for the past f
 ive years during OA Week. Some say if you rub George's foot, it brings
  good luck. We say if you dress him up, it draws attention to open acc
 ess!\n\nFor more information visit http://legacy.openaccessweek.org/ev
 ents/decorating-george-mason-statue-for-oa-week
DTSTART;TZID=Pacific/Midway:20131021T100000
DTEND;TZID=Pacific/Midway:20131021T110000
CATEGORIES:student, involvement
LOCATION:Johnson Center , North Plaza
WEBSITE:
URL:
CONTACT:
ORGANIZER;CN="Claudia Holland":http://legacy.openaccessweek.org/profil
 e/ClaudiaHolland
ATTACH;FMTTYPE="image/jpeg":
ATTENDEE;ROLE=REQ-PARTICIPANT;PARTSTAT=ACCEPTED;RSVP=TRUE;CN="Claudia 
 Holland":http://legacy.openaccessweek.org/profile/ClaudiaHolland
END:VEVENT
END:VCALENDAR
