BEGIN:VCALENDAR
PRODID:NingEventWidget-v1
VERSION:2.0
METHOD:PUBLISH
BEGIN:VTIMEZONE
TZID:Pacific/Midway
X-LIC-LOCATION:Pacific/Midway
BEGIN:STANDARD
TZOFFSETFROM:-1100
TZOFFSETTO:-1100
TZNAME:SST
DTSTART:19700101T000000
END:STANDARD
END:VTIMEZONE
BEGIN:VEVENT
UID:5385115:Event:291329
DTSTAMP:20260421T024554Z
SUMMARY:Debate around the Paywall documentary
DESCRIPTION:In the frame of ICN2 Open Access Week 2021  Organised b
 y ICN2 Strategy Development\nPaywall: The Business of Scholarship is 
 a documentary which focuses on the need for open access to research an
 d science. The film questions the rationale behind the $25.2 billion a
  year that flows into for-profit academic publishers and examines the 
 35-40% profit margin associated with the top academic publisher, Elsev
 ier.\nAcknowledgement of a situation is part of the solution to any is
 sue. As part of the Open Access Week, the ICN2 invites you to better a
 cknowledge this situation in science and to debate how we, as a resear
 ch community, can be part of a better distribution of knowledge and th
 e funds devoted to its creation.\nJoin a discussion about the need for
  open access to research and science with invited speakers:\n\nMiguel 
 A. Benítez, Project Manager, Basque Center for Applied Mathematics (B
 CAM) and chair of the SOMMa Open Science working group\nIgnasi Labasti
 da, Centre de Recursos per a l’Aprenentatge i la Investigació (CRAI
 -UB) and UB Rector's Delegate for Open Science\n\nChair of the Sessio
 n: Núria Benítez, ICN2 Institutional Strategy Development and Open S
 cience committee chair\nHYBRID EVENT. Register HERE to attend ONLINE
 \n11:00h – 12:05h Paywall The Business Of Scholarship (documentary s
 creening) / https://paywallthemovie.com/ \n12:10h – 13:30h Round t
 able\nhttps://icn2.cat/en/events/eventdetail/1736/debate-around-the-pa
 ywall-documentary\n\nFor more information visit http://legacy.openacce
 ssweek.org/events/debate-around-the-paywall-documentary
DTSTART;TZID=Pacific/Midway:20211029T110000
DTEND;TZID=Pacific/Midway:20211029T133000
CATEGORIES:documentary, debate
LOCATION:Spain
WEBSITE:https://maps.app.goo.gl/NSR6P48S5bsX6DPZ8
URL:https://maps.app.goo.gl/NSR6P48S5bsX6DPZ8
CONTACT:
ORGANIZER:ICN2 Strategy Development
ATTACH;FMTTYPE="image/jpeg":https://storage.ning.com/topology/rest/1.0
 /file/get/9715605087?profile=original
ATTENDEE;ROLE=REQ-PARTICIPANT;PARTSTAT=ACCEPTED;RSVP=TRUE;CN="Núria B
 enítez Monforte":http://legacy.openaccessweek.org/profile/NuriaBenite
 zMonforte
END:VEVENT
END:VCALENDAR
