BEGIN:VCALENDAR
PRODID:NingEventWidget-v1
VERSION:2.0
METHOD:PUBLISH
BEGIN:VTIMEZONE
TZID:Pacific/Midway
X-LIC-LOCATION:Pacific/Midway
BEGIN:STANDARD
TZOFFSETFROM:-1100
TZOFFSETTO:-1100
TZNAME:SST
DTSTART:19700101T000000
END:STANDARD
END:VTIMEZONE
BEGIN:VEVENT
UID:5385115:Event:101319
DTSTAMP:20260425T083737Z
SUMMARY:Death of Evidence Funeral
DESCRIPTION:For Open Access Week, join us in mourning the passing of e
 vidence-based decision making in Canada.  From the cancelling of the 
 long form census, to the cuts at Library and Archives Canada, to the m
 uzzling of Canadian government scientists, it’s been a tough few yea
 rs for evidence in Canada. Our beloved friend has finally given up the
  ghost.\nFollowing the funeral there will be snacks and an opportunity
  to send a postcard to the Prime Minister of Canada on behalf of Evide
 nce.  Our Eulogists:  Dawn Bazely (Speaking for muzzled scientists) Ja
 net Friskney (Speaking for Library and Archives Canada) Valerie Presto
 n (Speaking for the long form census)\n\n\nFor more information visit 
 http://legacy.openaccessweek.org/events/death-of-evidence-funeral
DTSTART;TZID=Pacific/Midway:20131022T133000
DTEND;TZID=Pacific/Midway:20131022T143000
CATEGORIES:speakers
LOCATION:Scott Library Atrium, York University
WEBSITE:http://www.library.yorku.ca/cms/death-of-evidence/
URL:http://www.library.yorku.ca/cms/death-of-evidence/
CONTACT:
ORGANIZER;CN="John Dupuis":http://legacy.openaccessweek.org/profile/Jo
 hnDupuis
ATTACH;FMTTYPE="image/jpeg":
ATTENDEE;ROLE=REQ-PARTICIPANT;PARTSTAT=ACCEPTED;RSVP=TRUE;CN="John Dup
 uis":http://legacy.openaccessweek.org/profile/JohnDupuis
END:VEVENT
END:VCALENDAR
