BEGIN:VCALENDAR
PRODID:NingEventWidget-v1
VERSION:2.0
METHOD:PUBLISH
BEGIN:VTIMEZONE
TZID:Pacific/Midway
X-LIC-LOCATION:Pacific/Midway
BEGIN:STANDARD
TZOFFSETFROM:-1100
TZOFFSETTO:-1100
TZNAME:SST
DTSTART:19700101T000000
END:STANDARD
END:VTIMEZONE
BEGIN:VEVENT
UID:5385115:Event:116158
DTSTAMP:20260419T211237Z
SUMMARY:Découverte des licences libres
DESCRIPTION:Le droit d’auteur français protège les auteurs contre 
 les réutilisations non-autorisées de leur œuvre. Cependant, certain
 s projets et auteurs font le choix d’autoriser explicitement tout le
  monde à réutiliser leurs créations ; ils utilisent pour cela une l
 icence libre. C’est le cas de projets connus comme Wikipédia, Firef
 ox ou encore OpenEdition.\nDurant cette formation, nous verrons commen
 t les licences libres s’appuient sur le droit d’auteur classique a
 fin de créer de nouveaux usages innovants. Nous étudierons rapidemen
 t l’historique de la culture libre ainsi que les fondements juridiqu
 es des licences libres. Nous aborderons également les licences libres
  les plus utilisées (Creative Commons, GPL, etc.) ainsi que des cas d
 ’utilisations concrets.\n\nFor more information visit http://legacy.
 openaccessweek.org/events/d-couverte-des-licences-libres
DTSTART;TZID=Pacific/Midway:20141022T180000
DTEND;TZID=Pacific/Midway:20141022T200000
CATEGORIES:training
LOCATION:Centre de culture numérique
WEBSITE:https://strasweb.fr/events/decouverte-des-licences-libres/
URL:https://strasweb.fr/events/decouverte-des-licences-libres/
CONTACT:
ORGANIZER:StrasWeb
ATTACH;FMTTYPE="image/jpeg":
ATTENDEE;ROLE=REQ-PARTICIPANT;PARTSTAT=ACCEPTED;RSVP=TRUE;CN="Pierre R
 udloff":http://legacy.openaccessweek.org/profile/PierreRudloff
END:VEVENT
END:VCALENDAR
