BEGIN:VCALENDAR
PRODID:NingEventWidget-v1
VERSION:2.0
METHOD:PUBLISH
BEGIN:VTIMEZONE
TZID:Pacific/Midway
X-LIC-LOCATION:Pacific/Midway
BEGIN:STANDARD
TZOFFSETFROM:-1100
TZOFFSETTO:-1100
TZNAME:SST
DTSTART:19700101T000000
END:STANDARD
END:VTIMEZONE
BEGIN:VEVENT
UID:5385115:Event:74704
DTSTAMP:20260420T235004Z
SUMMARY:Current situation of the OA at the Universitat de Barcelona
DESCRIPTION:Presentation of the last actions carried out around open a
 ccess at the Universitat de Barcelona, empathizing the current OA p
 olicy and its implementation using the institutional research informa
 tion system and the institutional repository.\n\nFor more information 
 visit http://legacy.openaccessweek.org/events/current-situation-of-the
 -oa-at-the-universitat-de-barcelona
DTSTART;TZID=Pacific/Midway:20121024T093000
DTEND;TZID=Pacific/Midway:20121024T113000
CATEGORIES:seminar
LOCATION:Aula Capella - Edifici Històric, Universitat de Barcelona
WEBSITE:http://goo.gl/maps/C32Tz
URL:http://goo.gl/maps/C32Tz
CONTACT:
ORGANIZER:Universitat de Barcelona
ATTACH;FMTTYPE="image/jpeg":
ATTENDEE;ROLE=REQ-PARTICIPANT;PARTSTAT=ACCEPTED;RSVP=TRUE;CN="Ignasi L
 abastida":http://legacy.openaccessweek.org/profile/IgnasiLabastida
END:VEVENT
END:VCALENDAR
