BEGIN:VCALENDAR
PRODID:NingEventWidget-v1
VERSION:2.0
METHOD:PUBLISH
BEGIN:VTIMEZONE
TZID:Pacific/Midway
X-LIC-LOCATION:Pacific/Midway
BEGIN:STANDARD
TZOFFSETFROM:-1100
TZOFFSETTO:-1100
TZNAME:SST
DTSTART:19700101T000000
END:STANDARD
END:VTIMEZONE
BEGIN:VEVENT
UID:5385115:Event:100748
DTSTAMP:20260425T073815Z
SUMMARY:CONFOA - Conferência Luso-Brasileira sobre Acesso Aberto
DESCRIPTION:The 4th CONFOA - Conferência Luso-Brasileira sobre Acesso
  Aberto (Luso-Brazilian Conference on Open Acces) was held October 6-9
  in University of São Paulo, São Paulo, Brazil, with partnership of 
 brazilians and portuguese institutions: University of São Paulo Integ
 rated Library System (DT-SIBI-USP) and  Brazilian Institute of Inform
 ation in Science and Technology (IBICT) from Brazil; and University of
  Minho (UMinho) and Foundation for National Scientific Computing (FCC
 N), from Portugal.\nThe event aimed to encourage the involvement of re
 searchers, teachers, librarians, administrators, students, professiona
 ls and politicians, promoting greater spread, penetration and coordina
 tion between these actors and the subject of open access in the Luso-B
 razilian community.\n\nFor more information visit http://legacy.openac
 cessweek.org/events/confoa-confer-ncia-luso-brasileira-sobre-acesso-ab
 erto
DTSTART;TZID=Pacific/Midway:20131010T000000
DTEND;TZID=Pacific/Midway:20131010T235900
CATEGORIES:conference
LOCATION:Brasiliana Library Auditorium, University of São Paulo, Braz
 il
WEBSITE:http://www.acessoaberto.pt/c/index.php/confoa2013/2013/schedCo
 nf/overview
URL:http://www.acessoaberto.pt/c/index.php/confoa2013/2013/schedConf/o
 verview
CONTACT:
ORGANIZER:SIBi-USP, IBICT (Brazil), UMinho, FCCN (Portugal)
ATTACH;FMTTYPE="image/jpeg":http://storage.ning.com/topology/rest/1.0/
 file/get/3057524392?profile=original
ATTENDEE;ROLE=REQ-PARTICIPANT;PARTSTAT=ACCEPTED;RSVP=TRUE;CN="Sibele F
 austo":http://legacy.openaccessweek.org/profile/SibeleFausto
END:VEVENT
END:VCALENDAR
