BEGIN:VCALENDAR
PRODID:NingEventWidget-v1
VERSION:2.0
METHOD:PUBLISH
BEGIN:VTIMEZONE
TZID:Pacific/Midway
X-LIC-LOCATION:Pacific/Midway
BEGIN:STANDARD
TZOFFSETFROM:-1100
TZOFFSETTO:-1100
TZNAME:SST
DTSTART:19700101T000000
END:STANDARD
END:VTIMEZONE
BEGIN:VEVENT
UID:5385115:Event:292894
DTSTAMP:20260421T010906Z
SUMMARY:Conferencia Internacional BIREDIAL-ISTEC
DESCRIPTION:\nEn su 10 aniversario, la X Conferencia Internacional BI
 REDIAL-ISTEC se realizará en modalidad virtual desde el Instituto N
 acional de Astrofísica, Óptica y Electrónica (INAOE), durante la S
 emana de Acceso Abierto, del 25 al 29 de octubre de 2021.\n\nFor more
  information visit http://legacy.openaccessweek.org/events/conferencia
 -internacional-biredial-istec
DTSTART;TZID=Pacific/Midway:20211025T080000
DTEND;TZID=Pacific/Midway:20211029T120000
CATEGORIES:international, conference
LOCATION:am
WEBSITE:https://biredial.istec.org/
URL:https://biredial.istec.org/
CONTACT:
ORGANIZER;CN=BIREDIAL-ISTEC:http://legacy.openaccessweek.org/profile/B
 IREDIALISTEC
ATTACH;FMTTYPE="image/jpeg":
ATTENDEE;ROLE=REQ-PARTICIPANT;PARTSTAT=ACCEPTED;RSVP=TRUE;CN=BIREDIAL-
 ISTEC:http://legacy.openaccessweek.org/profile/BIREDIALISTEC
END:VEVENT
END:VCALENDAR
