BEGIN:VCALENDAR
PRODID:NingEventWidget-v1
VERSION:2.0
METHOD:PUBLISH
BEGIN:VTIMEZONE
TZID:Pacific/Midway
X-LIC-LOCATION:Pacific/Midway
BEGIN:STANDARD
TZOFFSETFROM:-1100
TZOFFSETTO:-1100
TZNAME:SST
DTSTART:19700101T000000
END:STANDARD
END:VTIMEZONE
BEGIN:VEVENT
UID:5385115:Event:114741
DTSTAMP:20260420T150521Z
SUMMARY:Conference on Open Access
DESCRIPTION:An Open Access Conference is going to be organized in Nepa
 l on October 20 and 21 by Open Access Nepal in partnership with Nepal 
 Library and Information Consortium (NeLIC).\n\nFor more information vi
 sit http://legacy.openaccessweek.org/events/conference-on-open-access-
 2
DTSTART;TZID=Pacific/Midway:20141020T000000
DTEND;TZID=Pacific/Midway:20141021T235900
CATEGORIES:conference
LOCATION:Kathmandu, Nepal
WEBSITE:
URL:
CONTACT:
ORGANIZER:
ATTACH;FMTTYPE="image/jpeg":
ATTENDEE;ROLE=REQ-PARTICIPANT;PARTSTAT=ACCEPTED;RSVP=TRUE;CN="Iryna Ku
 chma":http://legacy.openaccessweek.org/profile/IrynaKuchma
ATTENDEE;ROLE=REQ-PARTICIPANT;PARTSTAT=ACCEPTED;RSVP=TRUE;CN="Jagadish
  Chandra Aryal":http://legacy.openaccessweek.org/profile/JagadishChand
 raAryal
END:VEVENT
END:VCALENDAR
