BEGIN:VCALENDAR
PRODID:NingEventWidget-v1
VERSION:2.0
METHOD:PUBLISH
BEGIN:VTIMEZONE
TZID:Pacific/Midway
X-LIC-LOCATION:Pacific/Midway
BEGIN:STANDARD
TZOFFSETFROM:-1100
TZOFFSETTO:-1100
TZNAME:SST
DTSTART:19700101T000000
END:STANDARD
END:VTIMEZONE
BEGIN:VEVENT
UID:5385115:Event:74540
DTSTAMP:20260421T010907Z
SUMMARY:Complying with the NIH Public Access Mandate (IU Bloomington)
DESCRIPTION:Learn more about how to comply with the 2008 National Inst
 itutes of Health mandate on making published research Open Access.\n\n
 For more information visit http://legacy.openaccessweek.org/events/com
 plying-with-the-nih-public-access-mandate-iu-bloomington
DTSTART;TZID=Pacific/Midway:20121026T120000
DTEND;TZID=Pacific/Midway:20121026T130000
CATEGORIES:workshop
LOCATION:Wells Library
WEBSITE:http://www.libraries.iub.edu/index.php?pageId=530000107
URL:http://www.libraries.iub.edu/index.php?pageId=530000107
CONTACT:8128565295
ORGANIZER;CN="Stacy Konkiel":http://legacy.openaccessweek.org/profile/
 StacyKonkiel
ATTACH;FMTTYPE="image/jpeg":
ATTENDEE;ROLE=REQ-PARTICIPANT;PARTSTAT=ACCEPTED;RSVP=TRUE;CN="Stacy Ko
 nkiel":http://legacy.openaccessweek.org/profile/StacyKonkiel
END:VEVENT
END:VCALENDAR
