BEGIN:VCALENDAR
PRODID:NingEventWidget-v1
VERSION:2.0
METHOD:PUBLISH
BEGIN:VTIMEZONE
TZID:Pacific/Midway
X-LIC-LOCATION:Pacific/Midway
BEGIN:STANDARD
TZOFFSETFROM:-1100
TZOFFSETTO:-1100
TZNAME:SST
DTSTART:19700101T000000
END:STANDARD
END:VTIMEZONE
BEGIN:VEVENT
UID:5385115:Event:52358
DTSTAMP:20260423T104421Z
SUMMARY:Competition \"What do you know about open access? \"
DESCRIPTION:Competition on What do you know about open access? \nDur
 ing the International Open Access Week, the UOC Library is holding a c
 ompetition to promote knowledge about open access and the tools that t
 he UOC makes available to its entire student community and all its adm
 inistration staff, teaching staff and researchers.\nThe lucky winner w
 ill take away a latest-generation electronic e-book reader, a kindle 3
 , with a selection of texts on open access in it, published with open 
 access licences.\n\nFor more information visit http://legacy.openacces
 sweek.org/events/competition-what-do-you-know-about-open-access
DTSTART;TZID=Pacific/Midway:20111024T180000
DTEND;TZID=Pacific/Midway:20111030T190000
CATEGORIES:contest
LOCATION:On-line
WEBSITE:http://oer.uoc.edu/OAweek2011/concurs_eng.html
URL:http://oer.uoc.edu/OAweek2011/concurs_eng.html
CONTACT:
ORGANIZER:Universitat Oberta de Catalunya, UOC
ATTACH;FMTTYPE="image/jpeg":http://storage.ning.com/topology/rest/1.0/
 file/get/2890168360?profile=original
ATTENDEE;ROLE=REQ-PARTICIPANT;PARTSTAT=ACCEPTED;RSVP=TRUE;CN="Cristina
  Vaquer":http://legacy.openaccessweek.org/profile/CristinaVaquer
END:VEVENT
END:VCALENDAR
