BEGIN:VCALENDAR
PRODID:NingEventWidget-v1
VERSION:2.0
METHOD:PUBLISH
BEGIN:VTIMEZONE
TZID:Pacific/Midway
X-LIC-LOCATION:Pacific/Midway
BEGIN:STANDARD
TZOFFSETFROM:-1100
TZOFFSETTO:-1100
TZNAME:SST
DTSTART:19700101T000000
END:STANDARD
END:VTIMEZONE
BEGIN:VEVENT
UID:5385115:Event:136167
DTSTAMP:20260425T071444Z
SUMMARY:\"Compartiendo datos\": mesa redonda en la Biblioteca de la UL
 PGC
DESCRIPTION:\nEl próximo martes 20 de octubre, a las 12 horas, en el 
 Edificio Central de la Biblioteca Universitaria (Campus de Tafira), se
  desarrollará una mesa redonda con el título Compartiendo datos. Est
 e acto divulgativo del Acceso abierto se enmarca en la celebración de
  la Semana internacional del Acceso abierto 2015, que este año se cel
 ebra del 19 al 25 de octubre.\nLa mesa redonda será presentada por Ma
 ría del Carmen Martín Marichal, directora de la Biblioteca Universit
 aria. Participarán en la misma:\n\nPablo Dorta González, subdirector
  de la Escuela de Doctorado y miembro de la Unidad de Bibliometría de
  la ULPGC.\nSantiago Hernández León, catedrático de Zoología.\nRic
 ardo Muñoz Martín, catedrático de Traducción.\n\nLa mesa estará c
 oordinada por Avelina Fernández Manrique de Lara, subdirectora de la 
 Biblioteca Universitaria y coordinadora del Grupo de Trabajo de Acceso
  Abierto y Derechos de Autor de la ULPGC.\nLa Biblioteca Universitaria
  viene participando ininterrumpidamente desde 2011 en esta iniciativa 
 internacional.\nMás información sobre el Acceso abierto en la Biblio
 teca\nPortal web de la Semana internacional de Acceso Abierto 2015\n\n
 For more information visit http://legacy.openaccessweek.org/events/com
 partiendo-datos-mesa-redonda-en-la-biblioteca-de-la-ulpgc
DTSTART;TZID=Pacific/Midway:20151020T000000
DTEND;TZID=Pacific/Midway:20151020T133000
CATEGORIES:discussion
LOCATION:30
WEBSITE:http://biblioteca.ulpgc.es/noticia_semana_acceso_abierto_2015
URL:http://biblioteca.ulpgc.es/noticia_semana_acceso_abierto_2015
CONTACT:+34 928458674
ORGANIZER:Biblioteca Universitaria ULPGC
ATTACH;FMTTYPE="image/jpeg":http://storage.ning.com/topology/rest/1.0/
 file/get/3057566180?profile=original
ATTENDEE;ROLE=REQ-PARTICIPANT;PARTSTAT=ACCEPTED;RSVP=TRUE;CN="Bibliote
 ca Universitaria ULPGC":http://legacy.openaccessweek.org/profile/ulpgc
 _library
END:VEVENT
END:VCALENDAR
