BEGIN:VCALENDAR
PRODID:NingEventWidget-v1
VERSION:2.0
METHOD:PUBLISH
BEGIN:VTIMEZONE
TZID:Pacific/Midway
X-LIC-LOCATION:Pacific/Midway
BEGIN:STANDARD
TZOFFSETFROM:-1100
TZOFFSETTO:-1100
TZNAME:SST
DTSTART:19700101T000000
END:STANDARD
END:VTIMEZONE
BEGIN:VEVENT
UID:5385115:Event:150270
DTSTAMP:20260423T082802Z
SUMMARY:Come produrre documentazione e pubblicare in ambito scientific
 o
DESCRIPTION:Il corso mira a fornire le basi di conoscenza necessarie p
 er la produzione di documentazione scientifica di qualità soprattutto
  ai fini di pubblicazione.\nGli argomenti trattati spaziano dalla sele
 zione e valutazione dello strumento più appropriato per redigere la d
 ocumentazione (riviste, monografie, rapporti tecnici ecc. ) agli attua
 li modelli editoriali ad accesso aperto (OA), tradizionale e ibrido co
 n le problematiche connesse ai diritti di autore. La valutazione di qu
 alità sarà tratta in riferimento ai vari aspetti relativi alla valut
 azione della ricerca con parametri bibliometrici, alla revisione tra p
 ari e alla quella a seguito di pubblicazione.\nLe modalità di produzi
 one dei documenti avranno una specifica trattazione relativamente ai t
 esti, agli abstract, alle figure e tabelle, agli standard da adottare 
 anche per le citazioni bibliografiche (per es. per le biobanche). La c
 opertura citazionale nelle revisioni sistematiche e metanalisi sarà a
 nche oggetto del corso. \nParticolare attenzione sarà dedicata alla 
 stesura del manoscritto e ai software utili per la condivisione della 
 scrittura di un documento tra più autori e alla gestione delle citazi
 oni bibliografiche (citation management systems).\nLe lezioni saranno 
 svolte in una sala multimediale dotata di 15 postazioni (massimo due p
 artecipanti a postazione) e saranno svolte con la necessaria interatti
 vità ai fini di una migliore acquisizione. Sarà privilegiato il lavo
 ro di gruppo e la partecipazione attiva dei corsisti con utilizzo di e
 sercitazioni.\nIl programma del corso e il materiale didattico può es
 sere scaricato al seguente link:\nhttp://corsoweb2.altervista.org/come
 -produrre-documentazione-e-pubblicare-ambito-scientifico/\n\nFor more 
 information visit http://legacy.openaccessweek.org/events/come-produrr
 e-documentazione-e-pubblicare-in-ambito-scientifico
DTSTART;TZID=Pacific/Midway:20161025T090000
DTEND;TZID=Pacific/Midway:20161026T170000
CATEGORIES:corso, ecm
LOCATION:5
WEBSITE:
URL:
CONTACT:
ORGANIZER;CN="Biblioteca IRE":http://legacy.openaccessweek.org/profile
 /BibliotecaIRE
ATTACH;FMTTYPE="image/jpeg":
ATTENDEE;ROLE=REQ-PARTICIPANT;PARTSTAT=ACCEPTED;RSVP=TRUE;CN="Bibliote
 ca IRE":http://legacy.openaccessweek.org/profile/BibliotecaIRE
END:VEVENT
END:VCALENDAR
