BEGIN:VCALENDAR
PRODID:NingEventWidget-v1
VERSION:2.0
METHOD:PUBLISH
BEGIN:VTIMEZONE
TZID:Pacific/Midway
X-LIC-LOCATION:Pacific/Midway
BEGIN:STANDARD
TZOFFSETFROM:-1100
TZOFFSETTO:-1100
TZNAME:SST
DTSTART:19700101T000000
END:STANDARD
END:VTIMEZONE
BEGIN:VEVENT
UID:5385115:Event:104103
DTSTAMP:20260419T053729Z
SUMMARY:Colloquia „Promotion of the scientific results in the field 
 of agricultural sciences delivered in Open Access”
DESCRIPTION:Colloquia „Promotion of the scientific results in the fi
 eld of agricultural sciences delivered in Open Access”. Organizers: 
 The Agrarian Republican Scientific Library, The State Agrarian Univers
 ity of Moldova (SAUM). \n\nFor more information visit http://legacy.o
 penaccessweek.org/events/colloquia-promotion-of-the-scientific-results
 -in-the-field-of
DTSTART;TZID=Pacific/Midway:20131024T100000
DTEND;TZID=Pacific/Midway:20131024T130000
CATEGORIES:colloquia
LOCATION:Location: Chişinău, Mirceşti, 42 St.
WEBSITE:
URL:
CONTACT:
ORGANIZER;CN="Natalia Cheradi":http://legacy.openaccessweek.org/profil
 e/CheradiNatalia
ATTACH;FMTTYPE="image/jpeg":
ATTENDEE;ROLE=REQ-PARTICIPANT;PARTSTAT=ACCEPTED;RSVP=TRUE;CN="Natalia 
 Cheradi":http://legacy.openaccessweek.org/profile/CheradiNatalia
END:VEVENT
END:VCALENDAR
