BEGIN:VCALENDAR
PRODID:NingEventWidget-v1
VERSION:2.0
METHOD:PUBLISH
BEGIN:VTIMEZONE
TZID:Pacific/Midway
X-LIC-LOCATION:Pacific/Midway
BEGIN:STANDARD
TZOFFSETFROM:-1100
TZOFFSETTO:-1100
TZNAME:SST
DTSTART:19700101T000000
END:STANDARD
END:VTIMEZONE
BEGIN:VEVENT
UID:5385115:Event:185175
DTSTAMP:20260422T151937Z
SUMMARY:Colloque International Science Ouverte au Sud-Enjeux et perspe
 ctives pour une nouvelle dynamique
DESCRIPTION:Colloque International Science Ouverte au Sud\nUniversité
  Cheikh Anta Diop Dakar, Senegal,\n23-25 octobre 2019\nColloque coorga
 nisé par l'IRD, le CIRAD et l´Université\nhttps://opensciencesud.sc
 iencesconf.org/\ncontact: coll-so-contact@ird.fr\n\nFor more informati
 on visit http://legacy.openaccessweek.org/events/colloque-internationa
 l-science-ouverte-au-sud-enjeux-et-1
DTSTART;TZID=Pacific/Midway:20191023T000000
DTEND;TZID=Pacific/Midway:20191025T235900
CATEGORIES:international, colloquium
LOCATION:Senegal
WEBSITE:https://opensciencesud.sciencesconf.org/
URL:https://opensciencesud.sciencesconf.org/
CONTACT:
ORGANIZER:IRD-Institut de Recherche pour Le Développement, CIRAD et l
 ´Université Université Cheikh Anta Diop de Dakar (UCAD)
ATTACH;FMTTYPE="image/jpeg":
ATTENDEE;ROLE=REQ-PARTICIPANT;PARTSTAT=ACCEPTED;RSVP=TRUE;CN="Dominiqu
 e Babini":http://legacy.openaccessweek.org/profile/DominiqueBabini
END:VEVENT
END:VCALENDAR
