BEGIN:VCALENDAR
PRODID:NingEventWidget-v1
VERSION:2.0
METHOD:PUBLISH
BEGIN:VTIMEZONE
TZID:Pacific/Midway
X-LIC-LOCATION:Pacific/Midway
BEGIN:STANDARD
TZOFFSETFROM:-1100
TZOFFSETTO:-1100
TZNAME:SST
DTSTART:19700101T000000
END:STANDARD
END:VTIMEZONE
BEGIN:VEVENT
UID:5385115:Event:50133
DTSTAMP:20260423T104553Z
SUMMARY:Coffee and Conversations: How to do OA (Open Access) at KU
DESCRIPTION:This talk will introduce attendees to KU faculty’s Open 
 Access policy, and the tools and resources available to make scholarsh
 ip produced at KU openly available.  Speakers include Ada Emmett, KU 
 Libraries’ scholarly communications program head; Marianne Reed, KU 
 Libraries’ digital information specialist; and KU Professor Beth Inn
 ocenti. A continental breakfast will begin at 8:30 am; the talk will s
 tart at 9 am.\n\nFor more information visit http://legacy.openaccesswe
 ek.org/events/coffee-and-conversations-how-to-do-oa-open-access-at-ku
DTSTART;TZID=Pacific/Midway:20111025T083000
DTEND;TZID=Pacific/Midway:20111025T100000
CATEGORIES:panel, discussion
LOCATION:University of Kansas, Watson Library, Center for Digital Scho
 larship Conference room 455
WEBSITE:
URL:
CONTACT:
ORGANIZER;CN="Ada Emmett":http://legacy.openaccessweek.org/profile/Ada
 Emmett
ATTACH;FMTTYPE="image/jpeg":
ATTENDEE;ROLE=REQ-PARTICIPANT;PARTSTAT=ACCEPTED;RSVP=TRUE;CN="Ada Emme
 tt":http://legacy.openaccessweek.org/profile/AdaEmmett
END:VEVENT
END:VCALENDAR
