BEGIN:VCALENDAR
PRODID:NingEventWidget-v1
VERSION:2.0
METHOD:PUBLISH
BEGIN:VTIMEZONE
TZID:Pacific/Midway
X-LIC-LOCATION:Pacific/Midway
BEGIN:STANDARD
TZOFFSETFROM:-1100
TZOFFSETTO:-1100
TZNAME:SST
DTSTART:19700101T000000
END:STANDARD
END:VTIMEZONE
BEGIN:VEVENT
UID:5385115:Event:100926
DTSTAMP:20260422T225740Z
SUMMARY:Charla-coloquio sobre Acceso Abierto en Uniradio de la UHU
DESCRIPTION:Charla-Coloquio enÂ UNIRADIO. La Radio de la Universidad d
 e Huelva dedicarÃ¡ un espacio a la difusiÃ³n de las actividades de la 
 Semana Internacional del Acceso Abierto y la difusiÃ³n de las ventajas
  y beneficios del acceso abierto a la producciÃ³n cientÃ­fica.\nLa act
 ividad consistirÃ¡ en una charla-coloquio que se llevarÃ¡ a cabo el dÃ
 ­a 23 de octubre, entre 11â€™20 y 12 horas en la cual participarÃ¡ Uni
 radio, investigadores de la Universidad de Huelva y el Equipo Arias Mo
 ntano.\n\nFor more information visit http://legacy.openaccessweek.org/
 events/charla-coloquio-sobre-acceso-abierto-en-uniradio-de-la-uhu
DTSTART;TZID=Pacific/Midway:20131023T111500
DTEND;TZID=Pacific/Midway:20131023T121500
CATEGORIES:charla, coloquio
LOCATION:Uniradio. Universidad de Huelva
WEBSITE:http://www.uhu.es/biblioteca/AccesoAbierto/AccesoAbierto2013.h
 tm
URL:http://www.uhu.es/biblioteca/AccesoAbierto/AccesoAbierto2013.htm
CONTACT:
ORGANIZER:JosÃ© Carlos Morillo. Repositorio Arias Montano UHU
ATTACH;FMTTYPE="image/jpeg":http://storage.ning.com/topology/rest/1.0/
 file/get/3057524447?profile=original
ATTENDEE;ROLE=REQ-PARTICIPANT;PARTSTAT=ACCEPTED;RSVP=TRUE;CN="Reposito
 rio Arias Montano. UHU":http://legacy.openaccessweek.org/profile/Repos
 itorioAriasMontanoUHU
END:VEVENT
END:VCALENDAR
