BEGIN:VCALENDAR
PRODID:NingEventWidget-v1
VERSION:2.0
METHOD:PUBLISH
BEGIN:VTIMEZONE
TZID:Pacific/Midway
X-LIC-LOCATION:Pacific/Midway
BEGIN:STANDARD
TZOFFSETFROM:-1100
TZOFFSETTO:-1100
TZNAME:SST
DTSTART:19700101T000000
END:STANDARD
END:VTIMEZONE
BEGIN:VEVENT
UID:5385115:Event:175595
DTSTAMP:20260421T011845Z
SUMMARY:Celebrate Open Access Week @ NDU-Louaize (Lebanon)
DESCRIPTION:\n\nFor more information visit http://legacy.openaccesswee
 k.org/events/celebrate-open-access-week-ndu-louaize-lebanon
DTSTART;TZID=Pacific/Midway:20181022T120000
DTEND;TZID=Pacific/Midway:20181026T130000
CATEGORIES:presentations, "&amp", discussions
LOCATION:Lebanon
WEBSITE:http://www.ndu.edu.lb
URL:http://www.ndu.edu.lb
CONTACT:+961-9-208030
ORGANIZER:Notre Dame University-Louaize Libraries
ATTACH;FMTTYPE="image/jpeg":
ATTENDEE;ROLE=REQ-PARTICIPANT;PARTSTAT=ACCEPTED;RSVP=TRUE;CN="Leslie A
 lter Hage":http://legacy.openaccessweek.org/profile/LeslieAlterHage
END:VEVENT
END:VCALENDAR
