BEGIN:VCALENDAR
PRODID:NingEventWidget-v1
VERSION:2.0
METHOD:PUBLISH
BEGIN:VTIMEZONE
TZID:Pacific/Midway
X-LIC-LOCATION:Pacific/Midway
BEGIN:STANDARD
TZOFFSETFROM:-1100
TZOFFSETTO:-1100
TZNAME:SST
DTSTART:19700101T000000
END:STANDARD
END:VTIMEZONE
BEGIN:VEVENT
UID:5385115:Event:102396
DTSTAMP:20260423T043836Z
SUMMARY:Celebrando la Semana Internacional del Acceso Abierto 2013
DESCRIPTION:La Escuela Graduada de Ciencias y Tecnologías de la Infor
 mación, de la Universidad de Puerto Rico se une a la celebración de 
 la Semana Internacional del Acceso Abierto 2013 con actividades divers
 as.\nPROGRAMA\nhttp://issuu.com/egctianauprblog/docs/celebrando_la_sem
 ana_acceso_abierto\n\nFor more information visit http://legacy.openacc
 essweek.org/events/celebrando-la-semana-internacional-del-acceso-abier
 to-2013
DTSTART;TZID=Pacific/Midway:20131021T060000
DTEND;TZID=Pacific/Midway:20131024T183000
CATEGORIES:webinars, and, conferences, on-site
LOCATION:Escuela Graduada de Ciencias y Tecnologías de la Informació
 n, Universidad de Puerto Rico, Rio Piedras Campus
WEBSITE:http://egcti.upr.edu
URL:http://egcti.upr.edu
CONTACT:1+787.612.9343
ORGANIZER;CN="Luisa Vigo-Cepeda":http://legacy.openaccessweek.org/prof
 ile/egctiupr
ATTACH;FMTTYPE="image/jpeg":
ATTENDEE;ROLE=REQ-PARTICIPANT;PARTSTAT=ACCEPTED;RSVP=TRUE;CN="Luisa Vi
 go-Cepeda":http://legacy.openaccessweek.org/profile/egctiupr
END:VEVENT
END:VCALENDAR
