BEGIN:VCALENDAR
PRODID:NingEventWidget-v1
VERSION:2.0
METHOD:PUBLISH
BEGIN:VTIMEZONE
TZID:Pacific/Midway
X-LIC-LOCATION:Pacific/Midway
BEGIN:STANDARD
TZOFFSETFROM:-1100
TZOFFSETTO:-1100
TZNAME:SST
DTSTART:19700101T000000
END:STANDARD
END:VTIMEZONE
BEGIN:VEVENT
UID:5385115:Event:161373
DTSTAMP:20260423T102633Z
SUMMARY:CC licenses – workshop for university lawyers
DESCRIPTION:CC licenses – workshop for university lawyers conducted 
 by Krzysztof Siewicz and Jarosław Lipszyc\n\nFor more information vis
 it http://legacy.openaccessweek.org/events/cc-licenses-workshop-for-un
 iversity-lawyers
DTSTART;TZID=Pacific/Midway:20171027T120000
DTEND;TZID=Pacific/Midway:20171027T160000
CATEGORIES:workshop
LOCATION:Poland
WEBSITE:http://www.bu.umk.pl/open-access-week
URL:http://www.bu.umk.pl/open-access-week
CONTACT:
ORGANIZER:Biblioteka Uniwersytecka UMK
ATTACH;FMTTYPE="image/jpeg":
ATTENDEE;ROLE=REQ-PARTICIPANT;PARTSTAT=ACCEPTED;RSVP=TRUE;CN="Malgorza
 ta Rychlik":http://legacy.openaccessweek.org/profile/MalgorzataRychlik
END:VEVENT
END:VCALENDAR
