BEGIN:VCALENDAR
PRODID:NingEventWidget-v1
VERSION:2.0
METHOD:PUBLISH
BEGIN:VTIMEZONE
TZID:Pacific/Midway
X-LIC-LOCATION:Pacific/Midway
BEGIN:STANDARD
TZOFFSETFROM:-1100
TZOFFSETTO:-1100
TZNAME:SST
DTSTART:19700101T000000
END:STANDARD
END:VTIMEZONE
BEGIN:VEVENT
UID:5385115:Event:103882
DTSTAMP:20260420T131234Z
SUMMARY:Cambodia Open Access Week 2013: Connecting the Dots
DESCRIPTION:Open access (OA) is the practice of providing unrestricted
  access via the Internet to peer-reviewed scholarly research. It is mo
 st commonly applied to scholarly journal articles, but it is also incr
 easingly being provided to theses, book chapters, and scholarly monogr
 aphs. (Wikipedia, 2013)  As part of the global #OpenAccessWeek 2013, t
 he local #OpenMovement community in Cambodia is hosting an event title
 d 'Open Access Week 2013 in Cambodia' in Phnom Penh. #Cambodia will be
  participating for the first time in this week-long, international ce
 lebration.  WHAT: Open Access Week 2013 in Cambodia WHY: Be part of th
 e global Open Access Week 2013 celebration. First time for Cambodia to
  participate with the aim to connect the dots of like-minded people, o
 rganizations concerning Open Movement. To promote Open Access and othe
 r OPEN movements in Cambodia. WHEN: Sun, Oct 27, 3:30-6:30pm (TBC - de
 pending on the event agenda) WHERE: Outdoor Open Space, SmallWorld co-
 working space WHO: Organized by local Open Movement community in Cambo
 dia.   Open for public, free admission.  ==Tentative Event Agenda== 3
 -3:30pm Participants arrival and socializing 3:30-4pm Wikipedia Edit-a
 -thon (TBC) 4-4:30pm Open Comics (TBC) 4:30-5pm Small talk...(TBC) 5-6
 :30pm Movie Screening 'RIP: A Remix Manifesto'  More updates to follow
 .  Get involved by participating in the event or presenting any open 
 project or experience you have with Open movement and have got any goo
 d ideas to share, please contact us: Greg Bem/ Vantharith Oum.  Thank 
 you!\n\nFor more information visit http://legacy.openaccessweek.org/ev
 ents/cambodia-open-access-week-2013-connecting-the-dots
DTSTART;TZID=Pacific/Midway:20131027T153000
DTEND;TZID=Pacific/Midway:20131027T183000
CATEGORIES:networking, party, "movie screening", gathering, meetup, op
 enaccess, cambodia, talk, presentation, discussion
LOCATION:SmallWorld Cambodia
WEBSITE:https://www.facebook.com/events/747574835268536/
URL:https://www.facebook.com/events/747574835268536/
CONTACT:
ORGANIZER:Vantharith Oum, Greg Ben
ATTACH;FMTTYPE="image/jpeg":http://storage.ning.com/topology/rest/1.0/
 file/get/3057530069?profile=original
ATTENDEE;ROLE=REQ-PARTICIPANT;PARTSTAT=ACCEPTED;RSVP=TRUE;CN="Vanthari
 th Oum":http://legacy.openaccessweek.org/profile/VantharithOum
END:VEVENT
END:VCALENDAR
