BEGIN:VCALENDAR
PRODID:NingEventWidget-v1
VERSION:2.0
METHOD:PUBLISH
BEGIN:VTIMEZONE
TZID:Pacific/Midway
X-LIC-LOCATION:Pacific/Midway
BEGIN:STANDARD
TZOFFSETFROM:-1100
TZOFFSETTO:-1100
TZNAME:SST
DTSTART:19700101T000000
END:STANDARD
END:VTIMEZONE
BEGIN:VEVENT
UID:5385115:Event:51405
DTSTAMP:20260419T025134Z
SUMMARY:Cómo proteger el derecho de autor permitiendo el acceso abier
 to a la producción intelectual
DESCRIPTION:Charla-recreo sobre \"Cómo proteger el derecho de autor p
 ermitiendo el acceso abierto a la producción intelectual: monografía
 s, tesis, artículos científicos, materiales de cátedra, produccione
 s artísticas y otras\"\nSe utilizará como disparador de la charla la
  proyección del tutorial multimedia \"Conserva tus derechos, favorece
  el acceso abierto\" elaborado por la Red de Bibliotecas Universitaria
 s Españolas (15 minutos de duración). El tutorial puede verse en: ht
 tp://www.propiedadintelectual.rebiun.org/\nLuego esperamos generar una
  estimulante charla sobre estos temas con los asistentes. Nos acompañ
 ará Patricio Lorente (Presidente del capítulo argentino de Wikimedia
 , entidad que patrocina a la Wikipedia y otros proyectos asociados con
  la Cultura Libre), integrantes del Proyecto de investigación \"El ac
 ceso abierto en Argentina: situación actual y principales tendencias\
 " (Proyecto de incentivos H-540) y personal de BIBHUMA comprometido co
 n el movimiento AA.\nY como ya es un clásico en todas las actividades
  de la semana del Acceso Abierto en BIBHUMA , esperamos amenizar la ch
 arla con mate, bizcochitos y tortas caseras.\nLos esperamos\n\nFor mor
 e information visit http://legacy.openaccessweek.org/events/c-mo-prote
 ger-el-derecho-de-autor-permitiendo-el-acceso-abierto-a
DTSTART;TZID=Pacific/Midway:20111026T170000
DTEND;TZID=Pacific/Midway:20111026T200000
CATEGORIES:charla-debate
LOCATION:Sala de lectura de BIBHUMA. FaHCE-UNLP
WEBSITE:http://bibhumaesaa.fahce.unlp.edu.ar/
URL:http://bibhumaesaa.fahce.unlp.edu.ar/
CONTACT:
ORGANIZER;CN=BIBHUMA:http://legacy.openaccessweek.org/profile/BIBHUMA
ATTACH;FMTTYPE="image/jpeg":http://storage.ning.com/topology/rest/1.0/
 file/get/3057483606?profile=original
ATTENDEE;ROLE=REQ-PARTICIPANT;PARTSTAT=ACCEPTED;RSVP=TRUE;CN="Mariana 
 Pichinini":http://legacy.openaccessweek.org/profile/MarianaPichinini
ATTENDEE;ROLE=REQ-PARTICIPANT;PARTSTAT=ACCEPTED;RSVP=TRUE;CN=BIBHUMA:h
 ttp://legacy.openaccessweek.org/profile/BIBHUMA
END:VEVENT
END:VCALENDAR
