BEGIN:VCALENDAR
PRODID:NingEventWidget-v1
VERSION:2.0
METHOD:PUBLISH
BEGIN:VTIMEZONE
TZID:Pacific/Midway
X-LIC-LOCATION:Pacific/Midway
BEGIN:STANDARD
TZOFFSETFROM:-1100
TZOFFSETTO:-1100
TZNAME:SST
DTSTART:19700101T000000
END:STANDARD
END:VTIMEZONE
BEGIN:VEVENT
UID:5385115:Event:138343
DTSTAMP:20260422T204847Z
SUMMARY:¿Cómo apoya la Biblioteca de la Universidad de Sevilla el Ac
 ceso Abierto?
DESCRIPTION:Hoy lunes 19 de octubre se celebra en todo el mundo la Sem
 ana Internacional del Acceso Abierto. La Biblioteca de la Universidad 
 de Sevilla ha querido sumarse a esta iniciativa internacional a travé
 s de un breve vídeo (4'), en el que profesores y bibliotecarios opina
 n sobre los beneficios del acceso abierto y sobre las actuaciones que 
 la Biblioteca puede realizar para apoyarlo, https://www.youtube.com/wa
 tch?v=LiTxMz_ny7c\nHa sido un trabajo de colaboración entre muchas pe
 rsonas y servicios de la Universidad de Sevilla, y nuestra pequeña co
 ntribución a la difusión del movimiento internacional de Acceso Abie
 rto, esperemos que contribuya también a la difusión del mismo en nue
 stra universidad.\n¡Piensa en global, actúa en local!\n\nFor more in
 formation visit http://legacy.openaccessweek.org/events/c-mo-apoya-la-
 biblioteca-de-la-universidad-de-sevilla-el-acceso
DTSTART;TZID=Pacific/Midway:20151019T000000
DTEND;TZID=Pacific/Midway:20160930T235900
CATEGORIES:vídeo
LOCATION:Spain
WEBSITE:https://www.youtube.com/watch?v=LiTxMz_ny7c
URL:https://www.youtube.com/watch?v=LiTxMz_ny7c
CONTACT:
ORGANIZER;CN="Mª Victoria Puy Moreno":http://legacy.openaccessweek.or
 g/profile/MVictoriaPuyMoreno
ATTACH;FMTTYPE="image/jpeg":http://storage.ning.com/topology/rest/1.0/
 file/get/3057568830?profile=original
ATTENDEE;ROLE=REQ-PARTICIPANT;PARTSTAT=ACCEPTED;RSVP=TRUE;CN="Mª Vict
 oria Puy Moreno":http://legacy.openaccessweek.org/profile/MVictoriaPuy
 Moreno
ATTENDEE;ROLE=REQ-PARTICIPANT;PARTSTAT=TENTATIVE;RSVP=TRUE;CN="Alejand
 ro Uribe Tirado":http://legacy.openaccessweek.org/profile/AlejandroUri
 beTirado
ATTENDEE;ROLE=REQ-PARTICIPANT;PARTSTAT=TENTATIVE;RSVP=TRUE;CN="Leydi R
 ubio Mahecha":http://legacy.openaccessweek.org/profile/LeydiRubioMahec
 ha
END:VEVENT
END:VCALENDAR
