BEGIN:VCALENDAR
PRODID:NingEventWidget-v1
VERSION:2.0
METHOD:PUBLISH
BEGIN:VTIMEZONE
TZID:Pacific/Midway
X-LIC-LOCATION:Pacific/Midway
BEGIN:STANDARD
TZOFFSETFROM:-1100
TZOFFSETTO:-1100
TZNAME:SST
DTSTART:19700101T000000
END:STANDARD
END:VTIMEZONE
BEGIN:VEVENT
UID:5385115:Event:175545
DTSTAMP:20260422T110535Z
SUMMARY:BRIDGING - Herausforderung von open interviews
DESCRIPTION:Im Rahmen dieser Infoveranstaltung reflektieren wir über 
 die Herausforderungen von offenen Interviews im Kontext von open scien
 ce.\n\nFor more information visit http://legacy.openaccessweek.org/eve
 nts/bridging-herausforderung-von-open-interviews
DTSTART;TZID=Pacific/Midway:20181024T160000
DTEND;TZID=Pacific/Midway:20181024T170000
CATEGORIES:präsentation, und, diskussion
LOCATION:Germany
WEBSITE:
URL:
CONTACT:
ORGANIZER;CN="Dr. Tina Ladwig":http://legacy.openaccessweek.org/profil
 e/DrTinaLadwig
ATTACH;FMTTYPE="image/jpeg":
ATTENDEE;ROLE=REQ-PARTICIPANT;PARTSTAT=ACCEPTED;RSVP=TRUE;CN="Dr. Tina
  Ladwig":http://legacy.openaccessweek.org/profile/DrTinaLadwig
END:VEVENT
END:VCALENDAR
