BEGIN:VCALENDAR
PRODID:NingEventWidget-v1
VERSION:2.0
METHOD:PUBLISH
BEGIN:VTIMEZONE
TZID:Pacific/Midway
X-LIC-LOCATION:Pacific/Midway
BEGIN:STANDARD
TZOFFSETFROM:-1100
TZOFFSETTO:-1100
TZNAME:SST
DTSTART:19700101T000000
END:STANDARD
END:VTIMEZONE
BEGIN:VEVENT
UID:5385115:Event:70389
DTSTAMP:20260420T221211Z
SUMMARY:Bozena Bednarek-Michalska
DESCRIPTION:Week Open Access Week in Poland 22-28.10.2012\n \nReporte
 d events\n \n\nOpen educational resources for researchers - Grodecka 
 Carolina, Center for eLearning AGH Krakow - Webinar.\nThe increase in 
 citations in the open access model of publication - Anna Wałek, Wrocl
 aw University of Technology Library and Librarianship Institute of Wro
 cław University - Webinar.\nThe transformation of traditional journal
 s to electronic open form - Bozena Bednarek-Michalska, UMK Torun - Web
 inar.\nDebate and seminar on open science in Lodz - Dr. Iwona Sójkows
 ka coordination. Organizers: EBIB, University of Lodz Library, The Ped
 agogical Academy Library and Lodz University of Technology Library.\nD
 ebate on the open science in Toruń -  Thomas Ganicz Centre of Molecu
 lar and Macromolecular Studies, Lodz, Bozena Bednarek-Michalska Univer
 sity Library in Toruń.\nPoznan University Library - workshop \"Open s
 cience in our hands - from design to implementation of university repo
 sitory.” Keeping Emilia Karwasińska, Małgorzata  Rychlik. October
  15, 2012.\nNovember issue of Academic Forum will focus on the topic o
 f open access.\nNovember issue of the Bulletin EBIB will be devoted to
  e-science.\nBuilding an institutional repository for the university 
 - a lecture by Małgorzata Rychlik of the Poznań University Library. 
 Organizer: University Library in Bialystok, a lecture will be held on 
 25.10. at 13.00. Curie-Sklodowska Str. 14a.\n\n \nThe Main Polish OAW
  page.\n \nBożena Bednarek-Michalska, EBIB, KOED, country coordinato
 r.\n\nFor more information visit http://legacy.openaccessweek.org/even
 ts/bozena-bednarek-michalska
DTSTART;TZID=Pacific/Midway:20121022T000000
DTEND;TZID=Pacific/Midway:20121030T235900
CATEGORIES:seminar, debate, webinar
LOCATION:Poland
WEBSITE:http://www.nowyebib.info/serwisy/15-openaccess/1219-midzynarod
 owy-tydzie-open-access-week-w-polsce
URL:http://www.nowyebib.info/serwisy/15-openaccess/1219-midzynarodowy-
 tydzie-open-access-week-w-polsce
CONTACT:
ORGANIZER;CN="Bożena Bednarek-Michalska":http://legacy.openaccessweek
 .org/profile/BozenaBednarekMichalska
ATTACH;FMTTYPE="image/jpeg":
ATTENDEE;ROLE=REQ-PARTICIPANT;PARTSTAT=ACCEPTED;RSVP=TRUE;CN="Bożena 
 Bednarek-Michalska":http://legacy.openaccessweek.org/profile/BozenaBed
 narekMichalska
END:VEVENT
END:VCALENDAR
