BEGIN:VCALENDAR
PRODID:NingEventWidget-v1
VERSION:2.0
METHOD:PUBLISH
BEGIN:VTIMEZONE
TZID:Pacific/Midway
X-LIC-LOCATION:Pacific/Midway
BEGIN:STANDARD
TZOFFSETFROM:-1100
TZOFFSETTO:-1100
TZNAME:SST
DTSTART:19700101T000000
END:STANDARD
END:VTIMEZONE
BEGIN:VEVENT
UID:5385115:Event:148018
DTSTAMP:20260425T015639Z
SUMMARY:Boston University: The Internet's Own Boy screening and Q&A wi
 th director
DESCRIPTION:We will screen a one-hour cut of The Internet’s Own Boy
 : The Story of Aaron Swartz, a 2014 documentary depicting Aaron’s li
 fe, work on internet standards still in wide use today, political acti
 vism, and eventual death at age 26. The screening will be followed by 
 a Q&A with the documentary’s director Brian Knappenberger. We’ll 
 provide pizza, you provide the questions.\nThis screening is part of B
 U Libraries' Open Access Week event series. More info and RSVP form.\n
 \nFor more information visit http://legacy.openaccessweek.org/events/b
 oston-university-the-internet-s-own-boy-screening-and-q-a-with
DTSTART;TZID=Pacific/Midway:20161024T160000
DTEND;TZID=Pacific/Midway:20161024T180000
CATEGORIES:"film screening"
LOCATION:United States of America
WEBSITE:https://www.bu.edu/maps/?id=296
URL:https://www.bu.edu/maps/?id=296
CONTACT:6178403270
ORGANIZER;CN="Vika Zafrin":http://legacy.openaccessweek.org/profile/Vi
 kaZafrin
ATTACH;FMTTYPE="image/jpeg":
ATTENDEE;ROLE=REQ-PARTICIPANT;PARTSTAT=ACCEPTED;RSVP=TRUE;CN="Vika Zaf
 rin":http://legacy.openaccessweek.org/profile/VikaZafrin
END:VEVENT
END:VCALENDAR
